Workbook

Sheet Grundliste
A1: BU | B1: Mintelonline Karte | C1: ID | D1: PLZ | E1: Art der Sperrung | F1: Name der Örtlichkeit | G1: Ort | H1: Bundesland | I1: Straßenbezeichnung | J1: Straßenname | K1: Hinweis | L1: Webrelevant
A2: x | B2: 1848 SaSo -Hohnstein -Rathewalde | C2: 10 | D2: 1848 | E2: Wochenend und Feiertagssperrung | F2: Polenztal | G2: Hohnstein | H2: Sachsen | I2: S 165 | J2: Polenztalstrasse | K2: S165 zwischen Polenztalstrasse und Hocksteinschänke | L2: x
C3: 20 | D3: 4103 | E3: Vollsperrung | G3: Leipzig | K3: "Phillip-Rosenthal-Straße
C4: 30 | D4: 6618 | E4: Wochenend und Feiertagssperrung | G4: Heiligenkreuz | K4: Keine weiteren Infos vorhanden
C5: 40 | D5: 18225 | E5: Nachtfahrverbot | G5: Kühlungsborn | K5: Ostseeallee Zeitliche Beschränkung: 22.00-06.00 Uhr
C6: 50 | D6: 21710 | E6: Vollsperrung | G6: Engelschoff | K6: Kreisstraße 63 (Hammaher Moor), zwischen der K 3 und K 62
A7: x | C7: 60 | D7: 21714 | E7: Vollsperrung | G7: Hammah | K7: Kreisstraße K 63 (Hammaher Moor), zwischen der K 3 und der K 62
C8: 70 | D8: 23570 | E8: Nachtfahrverbot | G8: Travemünde | K8: Kurgebiet
C9: 80 | D9: 23669 | E9: Nachtfahrverbot | G9: Timmendorfer Strand | K9: Niendorf, Kurgebiet
C10: 90 | D10: 23683 | E10: Nachtfahrverbot | G10: Scharbeutz Ortsteil Haffkrug | K10: Keine weiteren Infos vorhanden
C11: 100 | D11: 23701 | E11: Nachtfahrverbot | G11: Eutin | K11: Leonhardt-Boldt-Straße für Krafträder in der Zeit von 21.00 - 06.00 Uhr gesperrt
C12: 110 | D12: 23714 | E12: Nachtfahrverbot | G12: Bad Malente-Gremsmühlen | K12: Bahnhofstraße zwischen der Einmündung Lindenallee und der Einmündung Rosenstraße -Marktstraße zwischen der Einmündung Godenbergstraße und der Bahnhofstraße. Das Verbot gilt zwischen 22.00 Uhr und 6.00 Uhr.
C13: 120 | D13: 23743 | E13: Nachtfahrverbot | G13: Grömitz | K13: Kurgebiet
C14: 130 | D14: 23923 | E14: Nachtfahrverbot | G14: Weißenhäuser Strand | K14: gegenüber Bundeswehrschießplatz
C15: 140 | D15: 24235 | E15: Nachtfahrverbot | G15: Laboe | K15: Zufahrt zur Strandstraße i.d. Zeit von 20.00-08.00 Uhr für Motorräder gesperrt. http://mug-s.de/img/laboe.jpg
C16: 150 | D16: 25826 | E16: Nachtfahrverbot | G16: St. Peter-Ording | K16: Innenstadt
A17: x | C17: 160 | D17: 26160 | E17: Vollsperrung | G17: Bad Zwischenahn | K17: Folgende Straßen: Unter den Eichen , Weißer Weg , Auf dem Winkel
A18: x | C18: 170 | D18: 27476 | E18: Vollsperrung | G18: Cuxhaven-Duhnen | K18: "
C19: 180 | D19: 27576 | E19: Nachtfahrverbot | G19: Bremerhaven | K19: Bürgermeister-Smidt-Straße zwischen Bürgermeister-Martin-Donandt-Platz und der Straße Am Gitter in der Zeit von 20.00 bis 06.00 Uhr
A20: x | B20: 29456 SaSo -Hitzacker -Neu Darchau | C20: 190 | D20: 29456 | E20: Wochenend und Feiertagssperrung | F20: Elbufer | G20: Hitzacker | H20: Niedersachsen | I20: K19/K36 | J20: Elbuferstraße | K20: In der Zeit vom 15.03 - 15.10. eines jeden Jahres dürfen Zweiräder an Wochenenden (Samstag und Sonntag) und an Feiertagen diese Strecke in der Zeit von 6.00 bis 22.00 Uhr nicht benutzen. | L20: x
C21: 200 | D21: 29549 | E21: Vollsperrung | G21: Bad Bevensen | K21: Folgende Straßen: Am Klaubusch, Zur Amtsheide, Alter Wiesenweg und die Seb.-Kneipp-Straße
A22: x | C22: 210 | D22: 29574 | E22: Vollsperrung | G22: Ebstorf | K22: Am Westerholt
A23: x | C23: 220 | D23: 30890 | E23: Wochenend und Feiertagssperrung | G23: Barsinghausen | K23: Keine weiteren Infos vorhanden
A24: x | B24: 31867 So Nienstedter Pass | C24: 230 | D24: 31848 | E24: Wochenend und Feiertagssperrung | F24: Nienstedter Pass | G24: Bad Münder | H24: Niedersachsen | I24: L 401 | K24: Nienstedter Pass. Landesstraße L 401 zwischen dem Ortsteil Nienstedt und der Stadt Barsinghausen, Ortsteil Egestorf, tagsüber an Sonn- und Feiertagen 7.00 - 22.00 Uhr gesperrt | L24: x
C25: 240 | D25: 31542 | E25: Nachtfahrverbot | G25: Bad Nenndorf | K25: Stadtgebiet
A26: x | B26: 31737 SaSo -Möllenbeck -Eiergrund | C26: 250 | D26: 31737 | E26: Wochenend und Feiertagssperrung | G26: Rinteln | H26: Niedersachsen | I26: K 80 | K26: "Sperrung der Strecke ""Möllenbecker Wald"" zwischen Krankenhagen und Möllenbeck. Die Sperrung betrifft alle motorisierten Zweiräder an Sonn- und Feiertagen. Nun auch noch an Samstagen" 1.4.-30.9. | L26: x
A27: x | B27: 31737 Voll -Rolfshagen -Westendorf | C27: 260 | D27: 31737 | E27: Vollsperrung aufgehoben | F27: Unabhängigkeitsstraße Westendorf | G27: Rinteln-Westendorf | H27: Niedersachsen | I27: K 74 | J27: Stolzenegge | K27: K 74 für Kräder gesperrt. Wir sind dran. | L27: x
C28: 270 | D28: 31867 | E28: Wochenend und Feiertagssperrung | G28: Messenkamp | K28: Messenkamp und Nienstedt ist die Kreisstraße 61 mit dem VZ 255 StVO und den Zusatzzeichen 1042-35 StVO (6-22 h an Sonn- und Feiertagen) und 1001-31 StVO (auf 4 km) beschildert. Die Verkehrsteilnehmer werden in Höhe der Ausfahrt der B 442 Richtung K 61 bereits auf die Sperrung hingewiesen
C29: 280 | D29: 33758 | E29: Vollsperrung | G29: Schloß Holte-Stukenbrock | K29: Johannes-Stiewe-Straße
A30: x | C30: 290 | D30: 34112 | E30: Vollsperrung | G30: Kassel | K30: Mönchebergstraße zwischen Eisenschmiede und Mittelring in beiden Fahrtrichtungen für Motorräder gesperrt
A31: x | B31: 35080 Voll -Bottenhorn -Schlierbach | C31: 300 | E31: Vollsperrung
C32: 310 | D32: 35619 | E32: Vollsperrung | G32: Bonbaden | K32: K374 Bonbaden-Schwalbach Bemerkung: im Lahn-Dill-Kreis, seit Juni 2010
B33: 35625 Voll -Hüttenberg -Münchholzhausen | C33: 320 | D33: 35625 | E33: Vollsperrung | G33: Hüttenberg | H33: Hessen | I33: K 355 | K33: Vollsperrung für Krafträder der K355 zwischen 35625 Hüttenberg und Münchholzhausen | L33: x
B34: 35625 Voll -Hochelheim -Hüttenberg | C34: 330
B35: 35641 Voll -Bonbaden -Schöffengrund | C35: 340 | D35: 35641 | E35: Vollsperrung | G35: Schöffengrund | H35: Hessen | K35: Vollsperrung für Kräder auf K374 von Schwalbach nach Bonbaden / 30km/h für Kräder durchgehend auf L3054 von Oberwetz nach Oberquembach / 30 km/h für Kräder durchgehend auf K369 von Oberquembach nach Niederquembach / 30 km/h für Kräder durchgehend auf L3055 von Oberwetz nach Griedelbach | L35: x
C36: 350 | D36: 36251 | E36: Nachtfahrverbot | G36: Bad Hersfeld | K36: 20 - 6 h für Motorräder gesperrt: Am Kurpark Theodor-Heuss-Platz Dr.-Ronge-Weg Am Weinberg Am Hainberg Am Hopfengarten Brückenmöllerstraße Stresemannallee Gerwigstraße zwischen Stresemannallee und Am Kurpark> Scheidemannstraße zwischen Sternerstraße und Brückenmöllerstraße
C37: 360 | D37: 36391 | E37: Vollsperrung | G37: Altengronau | K37: Altengronau Neuengronau Bemerkung: Gesperrt
C38: 370 | D38: 36448 | E38: Nachtfahrverbot | G38: Bad Liebenstein | K38: Heinrich Mann Straße Zusatz: von 22-6 Uhr
C39: 380 | D39: 37191 | E39: Vollsperrung | G39: Katlenburg | K39: Vollsperrung - also nicht nur am Wochenende - für Motorräder von Katlenburg über Suterode nach Sudheim bzw. auch in umgekehrter Richtung.
C40: 390 | D40: 37431 | E40: Nachtfahrverbot | G40: Bad Lauterberg | K40: Stadtgebiet
...

Sheet Dateiname_Pfad_Metadaten
A1: ID | B1: Name der Örtlichkeit | C1: Ort | D1: Bundesland | E1: Straßenbezeichnung | F1: Straßenname | G1: Webrelevant | I1: Dateiname | J1: Seiten Name / Pfad Name | K1: Meta Titel | L1: Beschreibung | M1: Pfad | N1: Pfad sauber
A2: =Grundliste!C2 -> 10 | B2: =VLOOKUP(A2,Grundliste!$C1:$L167,4) -> Polenztal | C2: =VLOOKUP(A2,Grundliste!$C1:$L167,5) -> Hohnstein | D2: =VLOOKUP(A2,Grundliste!$C1:$L167,6) -> Sachsen | E2: =VLOOKUP(A2,Grundliste!$C1:$L167,7) -> S 165 | F2: =VLOOKUP(A2,Grundliste!$C1:$L167,8) -> Polenztalstrasse | G2: =VLOOKUP(A2,Grundliste!$C1:$L167,10) -> x | H2: =Grundliste!E2 -> Wochenend und Feiertagssperrung | I2: =CONCATENATE(A2,",",B2,",",C2,",",D2,",",E2,",",F2) -> 10,Polenztal,Hohnstein,Sachsen,S 165,Polenztalstrasse | J2: =CONCATENATE("Streckensperrung: ",D2," ",C2," ",F2," ",E2," ",B2," ",TEXT(A2,"""#""00000")) -> Streckensperrung: Sachsen Hohnstein Polenztalstrasse S 165 Polenztal #00010 | K2: =CONCATENATE("Streckensperrung: ",D2," ",C2," ",F2," ",E2," ",B2," - ",H2) -> Streckensperrung: Sachsen Hohnstein Polenztalstrasse S 165 Polenztal - Wochenend und Feiertagssperrung | L2: =CONCATENATE("Hier findest Du die Informationen zur Streckensperrung: ",D2," ",C2," ",F2," ",E2," ",B2," - ",H2) -> Hier findest Du die Informationen zur Streckensperrung: Sachsen Hohnstein Polenztalstrasse S 165 Polenztal - Wochenend und Feiertagssperrung | M2: =CONCATENATE(TEXT(A2,"""ID""00000"),"-",D2,"-",C2,"-",F2,"-",E2,"-",B2) -> ID00010-Sachsen-Hohnstein-Polenztalstrasse-S 165-Polenztal | N2: =(SUBSTITUTE(SUBSTITUTE(SUBSTITUTE(SUBSTITUTE(SUBSTITUTE(SUBSTITUTE(LOWER(TRIM(M2)),"ä","ae"),"ö","oe"),"ü","ue"),"ß","ss"),"--","-")," ","_")) -> id00010-sachsen-hohnstein-polenztalstrasse-s_165-polenztal
A3: =Grundliste!C3 -> 20 | B3: =VLOOKUP(A3,Grundliste!$C2:$L168,4) -> 0 | C3: =VLOOKUP(A3,Grundliste!$C2:$L168,5) -> Leipzig | D3: =VLOOKUP(A3,Grundliste!$C2:$L168,6) -> 0 | E3: =VLOOKUP(A3,Grundliste!$C2:$L168,7) -> 0 | F3: =VLOOKUP(A3,Grundliste!$C2:$L168,8) -> 0 | G3: =VLOOKUP(A3,Grundliste!$C2:$L168,10) -> 0 | H3: =Grundliste!E3 -> Vollsperrung
A4: =Grundliste!C4 -> 30 | B4: =VLOOKUP(A4,Grundliste!$C3:$L169,4) -> 0 | C4: =VLOOKUP(A4,Grundliste!$C3:$L169,5) -> Heiligenkreuz | D4: =VLOOKUP(A4,Grundliste!$C3:$L169,6) -> 0 | E4: =VLOOKUP(A4,Grundliste!$C3:$L169,7) -> 0 | F4: =VLOOKUP(A4,Grundliste!$C3:$L169,8) -> 0 | G4: =VLOOKUP(A4,Grundliste!$C3:$L169,10) -> 0 | H4: =Grundliste!E4 -> Wochenend und Feiertagssperrung
A5: =Grundliste!C5 -> 40 | B5: =VLOOKUP(A5,Grundliste!$C4:$L170,4) -> 0 | C5: =VLOOKUP(A5,Grundliste!$C4:$L170,5) -> Kühlungsborn | D5: =VLOOKUP(A5,Grundliste!$C4:$L170,6) -> 0 | E5: =VLOOKUP(A5,Grundliste!$C4:$L170,7) -> 0 | F5: =VLOOKUP(A5,Grundliste!$C4:$L170,8) -> 0 | G5: =VLOOKUP(A5,Grundliste!$C4:$L170,10) -> 0 | H5: =Grundliste!E5 -> Nachtfahrverbot
A6: =Grundliste!C6 -> 50 | B6: =VLOOKUP(A6,Grundliste!$C5:$L171,4) -> 0 | C6: =VLOOKUP(A6,Grundliste!$C5:$L171,5) -> Engelschoff | D6: =VLOOKUP(A6,Grundliste!$C5:$L171,6) -> 0 | E6: =VLOOKUP(A6,Grundliste!$C5:$L171,7) -> 0 | F6: =VLOOKUP(A6,Grundliste!$C5:$L171,8) -> 0 | G6: =VLOOKUP(A6,Grundliste!$C5:$L171,10) -> 0 | H6: =Grundliste!E6 -> Vollsperrung
A7: =Grundliste!C7 -> 60 | B7: =VLOOKUP(A7,Grundliste!$C6:$L172,4) -> 0 | C7: =VLOOKUP(A7,Grundliste!$C6:$L172,5) -> Hammah | D7: =VLOOKUP(A7,Grundliste!$C6:$L172,6) -> 0 | E7: =VLOOKUP(A7,Grundliste!$C6:$L172,7) -> 0 | F7: =VLOOKUP(A7,Grundliste!$C6:$L172,8) -> 0 | G7: =VLOOKUP(A7,Grundliste!$C6:$L172,10) -> 0 | H7: =Grundliste!E7 -> Vollsperrung
A8: =Grundliste!C8 -> 70 | B8: =VLOOKUP(A8,Grundliste!$C7:$L173,4) -> 0 | C8: =VLOOKUP(A8,Grundliste!$C7:$L173,5) -> Travemünde | D8: =VLOOKUP(A8,Grundliste!$C7:$L173,6) -> 0 | E8: =VLOOKUP(A8,Grundliste!$C7:$L173,7) -> 0 | F8: =VLOOKUP(A8,Grundliste!$C7:$L173,8) -> 0 | G8: =VLOOKUP(A8,Grundliste!$C7:$L173,10) -> 0 | H8: =Grundliste!E8 -> Nachtfahrverbot
A9: =Grundliste!C9 -> 80 | B9: =VLOOKUP(A9,Grundliste!$C8:$L174,4) -> 0 | C9: =VLOOKUP(A9,Grundliste!$C8:$L174,5) -> Timmendorfer Strand | D9: =VLOOKUP(A9,Grundliste!$C8:$L174,6) -> 0 | E9: =VLOOKUP(A9,Grundliste!$C8:$L174,7) -> 0 | F9: =VLOOKUP(A9,Grundliste!$C8:$L174,8) -> 0 | G9: =VLOOKUP(A9,Grundliste!$C8:$L174,10) -> 0 | H9: =Grundliste!E9 -> Nachtfahrverbot
A10: =Grundliste!C10 -> 90 | B10: =VLOOKUP(A10,Grundliste!$C9:$L175,4) -> 0 | C10: =VLOOKUP(A10,Grundliste!$C9:$L175,5) -> Scharbeutz Ortsteil Haffkrug | D10: =VLOOKUP(A10,Grundliste!$C9:$L175,6) -> 0 | E10: =VLOOKUP(A10,Grundliste!$C9:$L175,7) -> 0 | F10: =VLOOKUP(A10,Grundliste!$C9:$L175,8) -> 0 | G10: =VLOOKUP(A10,Grundliste!$C9:$L175,10) -> 0 | H10: =Grundliste!E10 -> Nachtfahrverbot
A11: =Grundliste!C11 -> 100 | B11: =VLOOKUP(A11,Grundliste!$C10:$L176,4) -> 0 | C11: =VLOOKUP(A11,Grundliste!$C10:$L176,5) -> Eutin | D11: =VLOOKUP(A11,Grundliste!$C10:$L176,6) -> 0 | E11: =VLOOKUP(A11,Grundliste!$C10:$L176,7) -> 0 | F11: =VLOOKUP(A11,Grundliste!$C10:$L176,8) -> 0 | G11: =VLOOKUP(A11,Grundliste!$C10:$L176,10) -> 0 | H11: =Grundliste!E11 -> Nachtfahrverbot
A12: =Grundliste!C12 -> 110 | B12: =VLOOKUP(A12,Grundliste!$C11:$L177,4) -> 0 | C12: =VLOOKUP(A12,Grundliste!$C11:$L177,5) -> Bad Malente-Gremsmühlen | D12: =VLOOKUP(A12,Grundliste!$C11:$L177,6) -> 0 | E12: =VLOOKUP(A12,Grundliste!$C11:$L177,7) -> 0 | F12: =VLOOKUP(A12,Grundliste!$C11:$L177,8) -> 0 | G12: =VLOOKUP(A12,Grundliste!$C11:$L177,10) -> 0 | H12: =Grundliste!E12 -> Nachtfahrverbot
A13: =Grundliste!C13 -> 120 | B13: =VLOOKUP(A13,Grundliste!$C12:$L178,4) -> 0 | C13: =VLOOKUP(A13,Grundliste!$C12:$L178,5) -> Grömitz | D13: =VLOOKUP(A13,Grundliste!$C12:$L178,6) -> 0 | E13: =VLOOKUP(A13,Grundliste!$C12:$L178,7) -> 0 | F13: =VLOOKUP(A13,Grundliste!$C12:$L178,8) -> 0 | G13: =VLOOKUP(A13,Grundliste!$C12:$L178,10) -> 0 | H13: =Grundliste!E13 -> Nachtfahrverbot
A14: =Grundliste!C14 -> 130 | B14: =VLOOKUP(A14,Grundliste!$C13:$L179,4) -> 0 | C14: =VLOOKUP(A14,Grundliste!$C13:$L179,5) -> Weißenhäuser Strand | D14: =VLOOKUP(A14,Grundliste!$C13:$L179,6) -> 0 | E14: =VLOOKUP(A14,Grundliste!$C13:$L179,7) -> 0 | F14: =VLOOKUP(A14,Grundliste!$C13:$L179,8) -> 0 | G14: =VLOOKUP(A14,Grundliste!$C13:$L179,10) -> 0 | H14: =Grundliste!E14 -> Nachtfahrverbot
... A19: =Grundliste!C19 -> 180 | B19: =VLOOKUP(A19,Grundliste!$C18:$L184,4) -> 0 | C19: =VLOOKUP(A19,Grundliste!$C18:$L184,5) -> Bremerhaven | D19: =VLOOKUP(A19,Grundliste!$C18:$L184,6) -> 0 | E19: =VLOOKUP(A19,Grundliste!$C18:$L184,7) -> 0 | F19: =VLOOKUP(A19,Grundliste!$C18:$L184,8) -> 0 | G19: =VLOOKUP(A19,Grundliste!$C18:$L184,10) -> 0 | H19: =Grundliste!E19 -> Nachtfahrverbot
A20: =Grundliste!C20 -> 190 | B20: =VLOOKUP(A20,Grundliste!$C19:$L185,4) -> Elbufer | C20: =VLOOKUP(A20,Grundliste!$C19:$L185,5) -> Hitzacker | D20: =VLOOKUP(A20,Grundliste!$C19:$L185,6) -> Niedersachsen | E20: =VLOOKUP(A20,Grundliste!$C19:$L185,7) -> K19/K36 | F20: =VLOOKUP(A20,Grundliste!$C19:$L185,8) -> Elbuferstraße | G20: =VLOOKUP(A20,Grundliste!$C19:$L185,10) -> x | H20: =Grundliste!E20 -> Wochenend und Feiertagssperrung | I20: =CONCATENATE(A20,",",B20,",",C20,",",D20,",",E20,",",F20) -> 190,Elbufer,Hitzacker,Niedersachsen,K19/K36,Elbuferstraße | J20: =CONCATENATE("Streckensperrung: ",D20," ",C20," ",F20," ",E20," ",B20," ",TEXT(A20,"""#""00000")) -> Streckensperrung: Niedersachsen Hitzacker Elbuferstraße K19/K36 Elbufer #00190 | K20: =CONCATENATE("Streckensperrung: ",D20," ",C20," ",F20," ",E20," ",B20," - ",H20) -> Streckensperrung: Niedersachsen Hitzacker Elbuferstraße K19/K36 Elbufer - Wochenend und Feiertagssperrung | L20: =CONCATENATE("Hier findest Du die Informationen zur Streckensperrung: ",D20," ",C20," ",F20," ",E20," ",B20," - ",H20) -> Hier findest Du die Informationen zur Streckensperrung: Niedersachsen Hitzacker Elbuferstraße K19/K36 Elbufer - Wochenend und Feiertagssperrung | M20: =CONCATENATE(TEXT(A20,"""ID""00000"),"-",D20,"-",C20,"-",F20,"-",E20,"-",B20) -> ID00190-Niedersachsen-Hitzacker-Elbuferstraße-K19/K36-Elbufer | N20: =SUBSTITUTE(SUBSTITUTE(SUBSTITUTE(SUBSTITUTE(SUBSTITUTE(SUBSTITUTE(LOWER(TRIM(M20)),"ä","ae"),"ö","oe"),"ü","ue"),"ß","ss"),"--","-")," ","_") -> id00190-niedersachsen-hitzacker-elbuferstrasse-k19/k36-elbufer
A21: =Grundliste!C21 -> 200 | B21: =VLOOKUP(A21,Grundliste!$C20:$L186,4) -> 0 | C21: =VLOOKUP(A21,Grundliste!$C20:$L186,5) -> Bad Bevensen | D21: =VLOOKUP(A21,Grundliste!$C20:$L186,6) -> 0 | E21: =VLOOKUP(A21,Grundliste!$C20:$L186,7) -> 0 | F21: =VLOOKUP(A21,Grundliste!$C20:$L186,8) -> 0 | G21: =VLOOKUP(A21,Grundliste!$C20:$L186,10) -> 0
A22: =Grundliste!C22 -> 210 | B22: =VLOOKUP(A22,Grundliste!$C21:$L187,4) -> 0 | C22: =VLOOKUP(A22,Grundliste!$C21:$L187,5) -> Ebstorf | D22: =VLOOKUP(A22,Grundliste!$C21:$L187,6) -> 0 | E22: =VLOOKUP(A22,Grundliste!$C21:$L187,7) -> 0 | F22: =VLOOKUP(A22,Grundliste!$C21:$L187,8) -> 0 | G22: =VLOOKUP(A22,Grundliste!$C21:$L187,10) -> 0
A23: =Grundliste!C23 -> 220 | B23: =VLOOKUP(A23,Grundliste!$C22:$L188,4) -> 0 | C23: =VLOOKUP(A23,Grundliste!$C22:$L188,5) -> Barsinghausen | D23: =VLOOKUP(A23,Grundliste!$C22:$L188,6) -> 0 | E23: =VLOOKUP(A23,Grundliste!$C22:$L188,7) -> 0 | F23: =VLOOKUP(A23,Grundliste!$C22:$L188,8) -> 0 | G23: =VLOOKUP(A23,Grundliste!$C22:$L188,10) -> 0
A24: =Grundliste!C24 -> 230 | B24: =VLOOKUP(A24,Grundliste!$C23:$L189,4) -> Nienstedter Pass | C24: =VLOOKUP(A24,Grundliste!$C23:$L189,5) -> Bad Münder | D24: =VLOOKUP(A24,Grundliste!$C23:$L189,6) -> Niedersachsen | E24: =VLOOKUP(A24,Grundliste!$C23:$L189,7) -> L 401 | G24: =VLOOKUP(A24,Grundliste!$C23:$L189,10) -> x | H24: =Grundliste!E24 -> Wochenend und Feiertagssperrung | I24: =CONCATENATE(A24,",",B24,",",C24,",",D24,",",E24,",",F24) -> 230,Nienstedter Pass,Bad Münder,Niedersachsen,L 401, | J24: =CONCATENATE("Streckensperrung: ",D24," ",C24," ",F24," ",E24," ",B24," ",TEXT(A24,"""#""00000")) -> Streckensperrung: Niedersachsen Bad Münder L 401 Nienstedter Pass #00230 | K24: =CONCATENATE("Streckensperrung: ",D24," ",C24," ",F24," ",E24," ",B24," - ",H24) -> Streckensperrung: Niedersachsen Bad Münder L 401 Nienstedter Pass - Wochenend und Feiertagssperrung | L24: =CONCATENATE("Hier findest Du die Informationen zur Streckensperrung: ",D24," ",C24," ",F24," ",E24," ",B24," - ",H24) -> Hier findest Du die Informationen zur Streckensperrung: Niedersachsen Bad Münder L 401 Nienstedter Pass - Wochenend und Feiertagssperrung | M24: =CONCATENATE(TEXT(A24,"""ID""00000"),"-",D24,"-",C24,"-",F24,"-",E24,"-",B24) -> ID00230-Niedersachsen-Bad Münder--L 401-Nienstedter Pass | N24: =SUBSTITUTE(SUBSTITUTE(SUBSTITUTE(SUBSTITUTE(SUBSTITUTE(SUBSTITUTE(LOWER(TRIM(M24)),"ä","ae"),"ö","oe"),"ü","ue"),"ß","ss"),"--","-")," ","_") -> id00230-niedersachsen-bad_muender-l_401-nienstedter_pass
A25: =Grundliste!C25 -> 240 | B25: =VLOOKUP(A25,Grundliste!$C24:$L190,4) -> 0 | C25: =VLOOKUP(A25,Grundliste!$C24:$L190,5) -> Bad Nenndorf | D25: =VLOOKUP(A25,Grundliste!$C24:$L190,6) -> 0 | E25: =VLOOKUP(A25,Grundliste!$C24:$L190,7) -> 0 | F25: =VLOOKUP(A25,Grundliste!$C24:$L190,8) -> 0 | G25: =VLOOKUP(A25,Grundliste!$C24:$L190,10) -> 0
A26: =Grundliste!C26 -> 250 | C26: =VLOOKUP(A26,Grundliste!$C25:$L191,5) -> Rinteln | D26: =VLOOKUP(A26,Grundliste!$C25:$L191,6) -> Niedersachsen | E26: =VLOOKUP(A26,Grundliste!$C25:$L191,7) -> K 80 | G26: =VLOOKUP(A26,Grundliste!$C25:$L191,10) -> x | H26: =Grundliste!E26 -> Wochenend und Feiertagssperrung | I26: =CONCATENATE(A26,",",B26,",",C26,",",D26,",",E26,",",F26) -> 250, ,Rinteln,Niedersachsen,K 80, | J26: =CONCATENATE("Streckensperrung: ",D26," ",C26," ",F26," ",E26," ",B26," ",TEXT(A26,"""#""00000")) -> Streckensperrung: Niedersachsen Rinteln K 80 #00250 | K26: =CONCATENATE("Streckensperrung: ",D26," ",C26," ",F26," ",E26," ",B26," - ",H26) -> Streckensperrung: Niedersachsen Rinteln K 80 - Wochenend und Feiertagssperrung | L26: =CONCATENATE("Hier findest Du die Informationen zur Streckensperrung: ",D26," ",C26," ",F26," ",E26," ",B26," - ",H26) -> Hier findest Du die Informationen zur Streckensperrung: Niedersachsen Rinteln K 80 - Wochenend und Feiertagssperrung | M26: =CONCATENATE(TEXT(A26,"""ID""00000"),"-",D26,"-",C26,"-",F26,"-",E26,"-",B26) -> ID00250-Niedersachsen-Rinteln--K 80- | N26: =SUBSTITUTE(SUBSTITUTE(SUBSTITUTE(SUBSTITUTE(SUBSTITUTE(SUBSTITUTE(LOWER(TRIM(M26)),"ä","ae"),"ö","oe"),"ü","ue"),"ß","ss"),"--","-")," ","_") -> id00250-niedersachsen-rinteln-k_80-
A27: =Grundliste!C27 -> 260 | B27: =VLOOKUP(A27,Grundliste!$C26:$L192,4) -> Unabhängigkeitsstraße Westendorf | C27: =VLOOKUP(A27,Grundliste!$C26:$L192,5) -> Rinteln-Westendorf | D27: =VLOOKUP(A27,Grundliste!$C26:$L192,6) -> Niedersachsen | E27: =VLOOKUP(A27,Grundliste!$C26:$L192,7) -> K 74 | F27: =VLOOKUP(A27,Grundliste!$C26:$L192,8) -> Stolzenegge | G27: =VLOOKUP(A27,Grundliste!$C26:$L192,10) -> x | H27: =Grundliste!E27 -> Vollsperrung aufgehoben | I27: =CONCATENATE(A27,",",B27,",",C27,",",D27,",",E27,",",F27) -> 260,Unabhängigkeitsstraße Westendorf,Rinteln-Westendorf,Niedersachsen,K 74,Stolzenegge | J27: =CONCATENATE("Streckensperrung: ",D27," ",C27," ",F27," ",E27," ",B27," ",TEXT(A27,"""#""00000")) -> Streckensperrung: Niedersachsen Rinteln-Westendorf Stolzenegge K 74 Unabhängigkeitsstraße Westendorf #00260 | K27: =CONCATENATE("Streckensperrung: ",D27," ",C27," ",F27," ",E27," ",B27," - ",H27) -> Streckensperrung: Niedersachsen Rinteln-Westendorf Stolzenegge K 74 Unabhängigkeitsstraße Westendorf - Vollsperrung aufgehoben | L27: =CONCATENATE("Hier findest Du die Informationen zur Streckensperrung: ",D27," ",C27," ",F27," ",E27," ",B27," - ",H27) -> Hier findest Du die Informationen zur Streckensperrung: Niedersachsen Rinteln-Westendorf Stolzenegge K 74 Unabhängigkeitsstraße Westendorf - Vollsperrung aufgehoben | M27: =CONCATENATE(TEXT(A27,"""ID""00000"),"-",D27,"-",C27,"-",F27,"-",E27,"-",B27) -> ID00260-Niedersachsen-Rinteln-Westendorf-Stolzenegge-K 74-Unabhängigkeitsstraße Westendorf | N27: =SUBSTITUTE(SUBSTITUTE(SUBSTITUTE(SUBSTITUTE(SUBSTITUTE(SUBSTITUTE(LOWER(TRIM(M27)),"ä","ae"),"ö","oe"),"ü","ue"),"ß","ss"),"--","-")," ","_") -> id00260-niedersachsen-rinteln-westendorf-stolzenegge-k_74-unabhaengigkeitsstrasse_westendorf
A28: =Grundliste!C28 -> 270 | B28: =VLOOKUP(A28,Grundliste!$C27:$L193,4) -> 0 | C28: =VLOOKUP(A28,Grundliste!$C27:$L193,5) -> Messenkamp | D28: =VLOOKUP(A28,Grundliste!$C27:$L193,6) -> 0 | E28: =VLOOKUP(A28,Grundliste!$C27:$L193,7) -> 0 | F28: =VLOOKUP(A28,Grundliste!$C27:$L193,8) -> 0 | G28: =VLOOKUP(A28,Grundliste!$C27:$L193,10) -> 0
A29: =Grundliste!C29 -> 280 | B29: =VLOOKUP(A29,Grundliste!$C28:$L194,4) -> 0 | C29: =VLOOKUP(A29,Grundliste!$C28:$L194,5) -> Schloß Holte-Stukenbrock | D29: =VLOOKUP(A29,Grundliste!$C28:$L194,6) -> 0 | E29: =VLOOKUP(A29,Grundliste!$C28:$L194,7) -> 0 | F29: =VLOOKUP(A29,Grundliste!$C28:$L194,8) -> 0 | G29: =VLOOKUP(A29,Grundliste!$C28:$L194,10) -> 0
A30: =Grundliste!C30 -> 290 | B30: =VLOOKUP(A30,Grundliste!$C29:$L195,4) -> 0 | C30: =VLOOKUP(A30,Grundliste!$C29:$L195,5) -> Kassel | D30: =VLOOKUP(A30,Grundliste!$C29:$L195,6) -> 0 | E30: =VLOOKUP(A30,Grundliste!$C29:$L195,7) -> 0 | F30: =VLOOKUP(A30,Grundliste!$C29:$L195,8) -> 0 | G30: =VLOOKUP(A30,Grundliste!$C29:$L195,10) -> 0
A31: =Grundliste!C31 -> 300 | B31: =VLOOKUP(A31,Grundliste!$C30:$L196,4) -> 0 | C31: =VLOOKUP(A31,Grundliste!$C30:$L196,5) -> 0 | D31: =VLOOKUP(A31,Grundliste!$C30:$L196,6) -> 0 | E31: =VLOOKUP(A31,Grundliste!$C30:$L196,7) -> 0 | F31: =VLOOKUP(A31,Grundliste!$C30:$L196,8) -> 0 | G31: =VLOOKUP(A31,Grundliste!$C30:$L196,10) -> 0
A32: =Grundliste!C32 -> 310 | B32: =VLOOKUP(A32,Grundliste!$C31:$L197,4) -> 0 | C32: =VLOOKUP(A32,Grundliste!$C31:$L197,5) -> Bonbaden | D32: =VLOOKUP(A32,Grundliste!$C31:$L197,6) -> 0 | E32: =VLOOKUP(A32,Grundliste!$C31:$L197,7) -> 0 | F32: =VLOOKUP(A32,Grundliste!$C31:$L197,8) -> 0 | G32: =VLOOKUP(A32,Grundliste!$C31:$L197,10) -> 0
A33: =Grundliste!C33 -> 320 | C33: =VLOOKUP(A33,Grundliste!$C32:$L198,5) -> Hüttenberg | D33: =VLOOKUP(A33,Grundliste!$C32:$L198,6) -> Hessen | E33: =VLOOKUP(A33,Grundliste!$C32:$L198,7) -> K 355 | G33: =VLOOKUP(A33,Grundliste!$C32:$L198,10) -> x | H33: =Grundliste!E33 -> Vollsperrung | I33: =CONCATENATE(A33,",",B33,",",C33,",",D33,",",E33,",",F33) -> 320, ,Hüttenberg,Hessen,K 355, | J33: =CONCATENATE("Streckensperrung: ",D33," ",C33," ",F33," ",E33," ",B33," ",TEXT(A33,"""#""00000")) -> Streckensperrung: Hessen Hüttenberg K 355 #00320 | K33: =CONCATENATE("Streckensperrung: ",D33," ",C33," ",F33," ",E33," ",B33," - ",H33) -> Streckensperrung: Hessen Hüttenberg K 355 - Vollsperrung | L33: =CONCATENATE("Hier findest Du die Informationen zur Streckensperrung: ",D33," ",C33," ",F33," ",E33," ",B33," - ",H33) -> Hier findest Du die Informationen zur Streckensperrung: Hessen Hüttenberg K 355 - Vollsperrung | M33: =CONCATENATE(TEXT(A33,"""ID""00000"),"-",D33,"-",C33,"-",F33,"-",E33,"-",B33) -> ID00320-Hessen-Hüttenberg--K 355- | N33: =SUBSTITUTE(SUBSTITUTE(SUBSTITUTE(SUBSTITUTE(SUBSTITUTE(SUBSTITUTE(LOWER(TRIM(M33)),"ä","ae"),"ö","oe"),"ü","ue"),"ß","ss"),"--","-")," ","_") -> id00320-hessen-huettenberg-k_355-
A34: =Grundliste!C34 -> 330 | B34: =VLOOKUP(A34,Grundliste!$C33:$L199,4) -> 0 | C34: =VLOOKUP(A34,Grundliste!$C33:$L199,5) -> 0 | D34: =VLOOKUP(A34,Grundliste!$C33:$L199,6) -> 0 | E34: =VLOOKUP(A34,Grundliste!$C33:$L199,7) -> 0 | F34: =VLOOKUP(A34,Grundliste!$C33:$L199,8) -> 0 | G34: =VLOOKUP(A34,Grundliste!$C33:$L199,10) -> 0
A35: =Grundliste!C35 -> 340 | C35: =VLOOKUP(A35,Grundliste!$C34:$L200,5) -> Schöffengrund | D35: =VLOOKUP(A35,Grundliste!$C34:$L200,6) -> Hessen | G35: =VLOOKUP(A35,Grundliste!$C34:$L200,10) -> x | H35: =Grundliste!E35 -> Vollsperrung | I35: =CONCATENATE(A35,",",B35,",",C35,",",D35,",",E35,",",F35) -> 340, ,Schöffengrund,Hessen,, | J35: =CONCATENATE("Streckensperrung: ",D35," ",C35," ",F35," ",E35," ",B35," ",TEXT(A35,"""#""00000")) -> Streckensperrung: Hessen Schöffengrund #00340 | K35: =CONCATENATE("Streckensperrung: ",D35," ",C35," ",F35," ",E35," ",B35," - ",H35) -> Streckensperrung: Hessen Schöffengrund - Vollsperrung | L35: =CONCATENATE("Hier findest Du die Informationen zur Streckensperrung: ",D35," ",C35," ",F35," ",E35," ",B35," - ",H35) -> Hier findest Du die Informationen zur Streckensperrung: Hessen Schöffengrund - Vollsperrung | M35: =CONCATENATE(TEXT(A35,"""ID""00000"),"-",D35,"-",C35,"-",F35,"-",E35,"-",B35) -> ID00340-Hessen-Schöffengrund--- | N35: =SUBSTITUTE(SUBSTITUTE(SUBSTITUTE(SUBSTITUTE(SUBSTITUTE(SUBSTITUTE(LOWER(TRIM(M35)),"ä","ae"),"ö","oe"),"ü","ue"),"ß","ss"),"--","-")," ","_") -> id00340-hessen-schoeffengrund--
A36: =Grundliste!C36 -> 350 | B36: =VLOOKUP(A36,Grundliste!$C35:$L201,4) -> 0 | C36: =VLOOKUP(A36,Grundliste!$C35:$L201,5) -> Bad Hersfeld | D36: =VLOOKUP(A36,Grundliste!$C35:$L201,6) -> 0 | E36: =VLOOKUP(A36,Grundliste!$C35:$L201,7) -> 0 | F36: =VLOOKUP(A36,Grundliste!$C35:$L201,8) -> 0 | G36: =VLOOKUP(A36,Grundliste!$C35:$L201,10) -> 0
A37: =Grundliste!C37 -> 360 | B37: =VLOOKUP(A37,Grundliste!$C36:$L202,4) -> 0 | C37: =VLOOKUP(A37,Grundliste!$C36:$L202,5) -> Altengronau | D37: =VLOOKUP(A37,Grundliste!$C36:$L202,6) -> 0 | E37: =VLOOKUP(A37,Grundliste!$C36:$L202,7) -> 0 | F37: =VLOOKUP(A37,Grundliste!$C36:$L202,8) -> 0 | G37: =VLOOKUP(A37,Grundliste!$C36:$L202,10) -> 0
A38: =Grundliste!C38 -> 370 | B38: =VLOOKUP(A38,Grundliste!$C37:$L203,4) -> 0 | C38: =VLOOKUP(A38,Grundliste!$C37:$L203,5) -> Bad Liebenstein | D38: =VLOOKUP(A38,Grundliste!$C37:$L203,6) -> 0 | E38: =VLOOKUP(A38,Grundliste!$C37:$L203,7) -> 0 | F38: =VLOOKUP(A38,Grundliste!$C37:$L203,8) -> 0 | G38: =VLOOKUP(A38,Grundliste!$C37:$L203,10) -> 0
A39: =Grundliste!C39 -> 380 | B39: =VLOOKUP(A39,Grundliste!$C38:$L204,4) -> 0 | C39: =VLOOKUP(A39,Grundliste!$C38:$L204,5) -> Katlenburg | D39: =VLOOKUP(A39,Grundliste!$C38:$L204,6) -> 0 | E39: =VLOOKUP(A39,Grundliste!$C38:$L204,7) -> 0 | F39: =VLOOKUP(A39,Grundliste!$C38:$L204,8) -> 0 | G39: =VLOOKUP(A39,Grundliste!$C38:$L204,10) -> 0
A40: =Grundliste!C40 -> 390 | B40: =VLOOKUP(A40,Grundliste!$C39:$L205,4) -> 0 | C40: =VLOOKUP(A40,Grundliste!$C39:$L205,5) -> Bad Lauterberg | D40: =VLOOKUP(A40,Grundliste!$C39:$L205,6) -> 0 | E40: =VLOOKUP(A40,Grundliste!$C39:$L205,7) -> 0 | F40: =VLOOKUP(A40,Grundliste!$C39:$L205,8) -> 0 | G40: =VLOOKUP(A40,Grundliste!$C39:$L205,10) -> 0
A41: =Grundliste!C41 -> 400 | B41: =VLOOKUP(A41,Grundliste!$C40:$L206,4) -> 0 | C41: =VLOOKUP(A41,Grundliste!$C40:$L206,5) -> Bad Grund | D41: =VLOOKUP(A41,Grundliste!$C40:$L206,6) -> 0 | E41: =VLOOKUP(A41,Grundliste!$C40:$L206,7) -> 0 | F41: =VLOOKUP(A41,Grundliste!$C40:$L206,8) -> 0 | G41: =VLOOKUP(A41,Grundliste!$C40:$L206,10) -> 0
A42: =Grundliste!C42 -> 410 | B42: =VLOOKUP(A42,Grundliste!$C41:$L207,4) -> 0 | C42: =VLOOKUP(A42,Grundliste!$C41:$L207,5) -> Bad Gandersheim | D42: =VLOOKUP(A42,Grundliste!$C41:$L207,6) -> 0 | E42: =VLOOKUP(A42,Grundliste!$C41:$L207,7) -> 0 | F42: =VLOOKUP(A42,Grundliste!$C41:$L207,8) -> 0 | G42: =VLOOKUP(A42,Grundliste!$C41:$L207,10) -> 0
A43: =Grundliste!C43 -> 420 | B43: =VLOOKUP(A43,Grundliste!$C42:$L208,4) -> 0 | C43: =VLOOKUP(A43,Grundliste!$C42:$L208,5) -> Bodenwerder | D43: =VLOOKUP(A43,Grundliste!$C42:$L208,6) -> 0 | E43: =VLOOKUP(A43,Grundliste!$C42:$L208,7) -> 0 | F43: =VLOOKUP(A43,Grundliste!$C42:$L208,8) -> 0 | G43: =VLOOKUP(A43,Grundliste!$C42:$L208,10) -> 0
A44: =Grundliste!C44 -> 430 | B44: =VLOOKUP(A44,Grundliste!$C43:$L209,4) -> 0 | C44: =VLOOKUP(A44,Grundliste!$C43:$L209,5) -> Werlaburgdorf | D44: =VLOOKUP(A44,Grundliste!$C43:$L209,6) -> Niedersachsen | E44: =VLOOKUP(A44,Grundliste!$C43:$L209,7) -> K83 | F44: =VLOOKUP(A44,Grundliste!$C43:$L209,8) -> Westendorf | G44: =VLOOKUP(A44,Grundliste!$C43:$L209,10) -> x | H44: =Grundliste!E44 -> Vollsperrung | I44: =CONCATENATE(A44,",",B44,",",C44,",",D44,",",E44,",",F44) -> 430,0,Werlaburgdorf,Niedersachsen,K83,Westendorf | J44: =CONCATENATE("Streckensperrung: ",D44," ",C44," ",F44," ",E44," ",B44," ",TEXT(A44,"""#""00000")) -> Streckensperrung: Niedersachsen Werlaburgdorf Westendorf K83 0 #00430 | K44: =CONCATENATE("Streckensperrung: ",D44," ",C44," ",F44," ",E44," ",B44," - ",H44) -> Streckensperrung: Niedersachsen Werlaburgdorf Westendorf K83 0 - Vollsperrung | L44: =CONCATENATE("Hier findest Du die Informationen zur Streckensperrung: ",D44," ",C44," ",F44," ",E44," ",B44," - ",H44) -> Hier findest Du die Informationen zur Streckensperrung: Niedersachsen Werlaburgdorf Westendorf K83 0 - Vollsperrung | M44: =CONCATENATE(TEXT(A44,"""ID""00000"),"-",D44,"-",C44,"-",F44,"-",E44,"-",B44) -> ID00430-Niedersachsen-Werlaburgdorf-Westendorf-K83-0 | N44: =SUBSTITUTE(SUBSTITUTE(SUBSTITUTE(SUBSTITUTE(SUBSTITUTE(SUBSTITUTE(LOWER(TRIM(M44)),"ä","ae"),"ö","oe"),"ü","ue"),"ß","ss"),"--","-")," ","_") -> id00430-niedersachsen-werlaburgdorf-westendorf-k83-0
...
