Workbook

Sheet Grundliste
A1: BU | B1: Mintelonline Karte | C1: ID | D1: PLZ | E1: Art der Sperrung | F1: Name der Örtlichkeit | G1: Ort | H1: Bundesland | I1: Straßenbezeichnung | J1: Straßenname | K1: Hinweis | L1: Webrelevant
A2: x | B2: 1848 SaSo -Hohnstein -Rathewalde | C2: 10 | D2: 1848 | E2: Wochenend und Feiertagssperrung | F2: Polenztal | G2: Hohnstein | H2: Sachsen | I2: S 165 | J2: Polenztalstrasse | K2: S165 zwischen Polenztalstrasse und Hocksteinschänke | L2: x
C3: 20 | D3: 4103 | E3: Vollsperrung | G3: Leipzig | K3: "Phillip-Rosenthal-Straße
C4: 30 | D4: 6618 | E4: Wochenend und Feiertagssperrung | G4: Heiligenkreuz | K4: Keine weiteren Infos vorhanden
C5: 40 | D5: 18225 | E5: Nachtfahrverbot | G5: Kühlungsborn | K5: Ostseeallee Zeitliche Beschränkung: 22.00-06.00 Uhr
C6: 50 | D6: 21710 | E6: Vollsperrung | G6: Engelschoff | K6: Kreisstraße 63 (Hammaher Moor), zwischen der K 3 und K 62
A7: x | C7: 60 | D7: 21714 | E7: Vollsperrung | G7: Hammah | K7: Kreisstraße K 63 (Hammaher Moor), zwischen der K 3 und der K 62
C8: 70 | D8: 23570 | E8: Nachtfahrverbot | G8: Travemünde | K8: Kurgebiet
C9: 80 | D9: 23669 | E9: Nachtfahrverbot | G9: Timmendorfer Strand | K9: Niendorf, Kurgebiet
C10: 90 | D10: 23683 | E10: Nachtfahrverbot | G10: Scharbeutz Ortsteil Haffkrug | K10: Keine weiteren Infos vorhanden
C11: 100 | D11: 23701 | E11: Nachtfahrverbot | G11: Eutin | K11: Leonhardt-Boldt-Straße für Krafträder in der Zeit von 21.00 - 06.00 Uhr gesperrt
C12: 110 | D12: 23714 | E12: Nachtfahrverbot | G12: Bad Malente-Gremsmühlen | K12: Bahnhofstraße zwischen der Einmündung Lindenallee und der Einmündung Rosenstraße -Marktstraße zwischen der Einmündung Godenbergstraße und der Bahnhofstraße. Das Verbot gilt zwischen 22.00 Uhr und 6.00 Uhr.
C13: 120 | D13: 23743 | E13: Nachtfahrverbot | G13: Grömitz | K13: Kurgebiet
C14: 130 | D14: 23923 | E14: Nachtfahrverbot | G14: Weißenhäuser Strand | K14: gegenüber Bundeswehrschießplatz
C15: 140 | D15: 24235 | E15: Nachtfahrverbot | G15: Laboe | K15: Zufahrt zur Strandstraße i.d. Zeit von 20.00-08.00 Uhr für Motorräder gesperrt. http://mug-s.de/img/laboe.jpg
C16: 150 | D16: 25826 | E16: Nachtfahrverbot | G16: St. Peter-Ording | K16: Innenstadt
A17: x | C17: 160 | D17: 26160 | E17: Vollsperrung | G17: Bad Zwischenahn | K17: Folgende Straßen: Unter den Eichen , Weißer Weg , Auf dem Winkel
A18: x | C18: 170 | D18: 27476 | E18: Vollsperrung | G18: Cuxhaven-Duhnen | K18: "
C19: 180 | D19: 27576 | E19: Nachtfahrverbot | G19: Bremerhaven | K19: Bürgermeister-Smidt-Straße zwischen Bürgermeister-Martin-Donandt-Platz und der Straße Am Gitter in der Zeit von 20.00 bis 06.00 Uhr
A20: x | B20: 29456 SaSo -Hitzacker -Neu Darchau | C20: 190 | D20: 29456 | E20: Wochenend und Feiertagssperrung | F20: Elbufer | G20: Hitzacker | H20: Niedersachsen | I20: K19/K36 | J20: Elbuferstraße | K20: In der Zeit vom 15.03 - 15.10. eines jeden Jahres dürfen Zweiräder an Wochenenden (Samstag und Sonntag) und an Feiertagen diese Strecke in der Zeit von 6.00 bis 22.00 Uhr nicht benutzen. | L20: x
C21: 200 | D21: 29549 | E21: Vollsperrung | G21: Bad Bevensen | K21: Folgende Straßen: Am Klaubusch, Zur Amtsheide, Alter Wiesenweg und die Seb.-Kneipp-Straße
A22: x | C22: 210 | D22: 29574 | E22: Vollsperrung | G22: Ebstorf | K22: Am Westerholt
A23: x | C23: 220 | D23: 30890 | E23: Wochenend und Feiertagssperrung | G23: Barsinghausen | K23: Keine weiteren Infos vorhanden
A24: x | B24: 31867 So Nienstedter Pass | C24: 230 | D24: 31848 | E24: Wochenend und Feiertagssperrung | F24: Nienstedter Pass | G24: Bad Münder | H24: Niedersachsen | I24: L 401 | K24: Nienstedter Pass. Landesstraße L 401 zwischen dem Ortsteil Nienstedt und der Stadt Barsinghausen, Ortsteil Egestorf, tagsüber an Sonn- und Feiertagen 7.00 - 22.00 Uhr gesperrt | L24: x
C25: 240 | D25: 31542 | E25: Nachtfahrverbot | G25: Bad Nenndorf | K25: Stadtgebiet
A26: x | B26: 31737 SaSo -Möllenbeck -Eiergrund | C26: 250 | D26: 31737 | E26: Wochenend und Feiertagssperrung | G26: Rinteln | H26: Niedersachsen | I26: K 80 | K26: "Sperrung der Strecke ""Möllenbecker Wald"" zwischen Krankenhagen und Möllenbeck. Die Sperrung betrifft alle motorisierten Zweiräder an Sonn- und Feiertagen. Nun auch noch an Samstagen" 1.4.-30.9. | L26: x
A27: x | B27: 31737 Voll -Rolfshagen -Westendorf | C27: 260 | D27: 31737 | E27: Vollsperrung aufgehoben | F27: Unabhängigkeitsstraße Westendorf | G27: Rinteln-Westendorf | H27: Niedersachsen | I27: K 74 | J27: Stolzenegge | K27: K 74 für Kräder gesperrt. Wir sind dran. | L27: x
C28: 270 | D28: 31867 | E28: Wochenend und Feiertagssperrung | G28: Messenkamp | K28: Messenkamp und Nienstedt ist die Kreisstraße 61 mit dem VZ 255 StVO und den Zusatzzeichen 1042-35 StVO (6-22 h an Sonn- und Feiertagen) und 1001-31 StVO (auf 4 km) beschildert. Die Verkehrsteilnehmer werden in Höhe der Ausfahrt der B 442 Richtung K 61 bereits auf die Sperrung hingewiesen
C29: 280 | D29: 33758 | E29: Vollsperrung | G29: Schloß Holte-Stukenbrock | K29: Johannes-Stiewe-Straße
A30: x | C30: 290 | D30: 34112 | E30: Vollsperrung | G30: Kassel | K30: Mönchebergstraße zwischen Eisenschmiede und Mittelring in beiden Fahrtrichtungen für Motorräder gesperrt
A31: x | B31: 35080 Voll -Bottenhorn -Schlierbach | C31: 300 | E31: Vollsperrung
C32: 310 | D32: 35619 | E32: Vollsperrung | G32: Bonbaden | K32: K374 Bonbaden-Schwalbach Bemerkung: im Lahn-Dill-Kreis, seit Juni 2010
B33: 35625 Voll -Hüttenberg -Münchholzhausen | C33: 320 | D33: 35625 | E33: Vollsperrung | G33: Hüttenberg | H33: Hessen | I33: K 355 | K33: Vollsperrung für Krafträder der K355 zwischen 35625 Hüttenberg und Münchholzhausen | L33: x
B34: 35625 Voll -Hochelheim -Hüttenberg | C34: 330
B35: 35641 Voll -Bonbaden -Schöffengrund | C35: 340 | D35: 35641 | E35: Vollsperrung | G35: Schöffengrund | H35: Hessen | K35: Vollsperrung für Kräder auf K374 von Schwalbach nach Bonbaden / 30km/h für Kräder durchgehend auf L3054 von Oberwetz nach Oberquembach / 30 km/h für Kräder durchgehend auf K369 von Oberquembach nach Niederquembach / 30 km/h für Kräder durchgehend auf L3055 von Oberwetz nach Griedelbach | L35: x
C36: 350 | D36: 36251 | E36: Nachtfahrverbot | G36: Bad Hersfeld | K36: 20 - 6 h für Motorräder gesperrt: Am Kurpark Theodor-Heuss-Platz Dr.-Ronge-Weg Am Weinberg Am Hainberg Am Hopfengarten Brückenmöllerstraße Stresemannallee Gerwigstraße zwischen Stresemannallee und Am Kurpark> Scheidemannstraße zwischen Sternerstraße und Brückenmöllerstraße
C37: 360 | D37: 36391 | E37: Vollsperrung | G37: Altengronau | K37: Altengronau Neuengronau Bemerkung: Gesperrt
C38: 370 | D38: 36448 | E38: Nachtfahrverbot | G38: Bad Liebenstein | K38: Heinrich Mann Straße Zusatz: von 22-6 Uhr
C39: 380 | D39: 37191 | E39: Vollsperrung | G39: Katlenburg | K39: Vollsperrung - also nicht nur am Wochenende - für Motorräder von Katlenburg über Suterode nach Sudheim bzw. auch in umgekehrter Richtung.
C40: 390 | D40: 37431 | E40: Nachtfahrverbot | G40: Bad Lauterberg | K40: Stadtgebiet
C41: 400 | D41: 37539 | E41: Vollsperrung | G41: Bad Grund | K41: Bemerkung: Bundesstrasse 242, ab Höhe Bad Grund bis Anschlusstelle B 243 ist für Kradfahrer vollgesperrt
C42: 410 | D42: 37581 | E42: Nachtfahrverbot | G42: Bad Gandersheim | K42: Hildesheimer Straße zwischen Lohmühlenweg und Dr.-Heinrich-Jasper-Straße täglich von 22:30 bis 05:30
C43: 420 | D43: 37619 | E43: Nachtfahrverbot | G43: Bodenwerder | K43: Stadtgebiet
A44: x | B44: 38315 Voll -Altenrode -Werlaburgdorf | C44: 430 | D44: 38315 | E44: Vollsperrung | G44: Werlaburgdorf | H44: Niedersachsen | I44: K83 | J44: Westendorf | K44: Seit dem 10.Juli 2018 ist die K83 bei Werlaburgdorf für Motorräder gesperrt! Die Sperrung gilt vom 1. April bis zum 31. Oktober! | L44: x
C45: 440 | D45: 38667 | E45: Nachtfahrverbot | G45: Bad Harzburg | K45: Kurzone der Stadt in den Zeiten zwischen 20.00 und 06.00 Uhr für Motorräder gesperrt. Anwohner und dort Beschäftigte erhalten auf Antrag eine Ausnahmegenehmigung
C46: 450 | D46: 41844 | E46: Vollsperrung | G46: Wegberg | K46: Anton-Raky-Straße zwischen den Ortsteilen Rödgen und Bäch
C47: 460 | D47: 42269 | E47: Vollsperrung | G47: Wuppertal | K47: "An der Hütte (enge Fachwerkhausbebauung); Märkische Str. 123 b - 123 m "
C48: 470 | D48: 42269 | E48: Nachtfahrverbot | G48: Wuppertal | K48: "Bergstr. (ab Einmündung Hochstr.) - VZ 255 ""20-6h"" (Krankenhaus) - Hainstr. (zwischen Bremer Str. und August-Bebel-Str.) - VZ 255 ""20-6h"" (Krankenhaus) - Arrenberger Str. Höhe Hausnummer 18 - 68 (Einbahnstraße) bzw. Einmündung Masurenstraße - Senefelder Straße Simonsstraße 6 - 25 bzw. Einmündung Moritzstraße - Senefelder Straße VZ 255 ""22 - 6 h"" (Krankenhaus) - Hütter Str. ab Herichhauser Str, Am Ehrenmal ab Hauptstr. übergehend in Hütter Str. VZ 255 ""21-6 h"" (Altenheim)"
C49: 480 | D49: 42859 | E49: Nachtfahrverbot | G49: Remscheid-Lennep | K49: Innenstadt
A50: x | B50: 42929 Voll -Käfringhausen -Könenmühle | C50: 490 | D50: 42929 | E50: Vollsperrung | G50: Wermelskirchen | H50: NRW | I50: K18 | K50: Kreisstraße Nr. 18, südlich von Dabringhausen zwischen den Ortslagen Coenenmühle und Engerfeld | L50: x
C51: 510 | D51: 44621 | E51: Vollsperrung | G51: Herne | K51: Hordeler Straße ( zwischen Edmund - Weber - Straße und Richard - Wagner - Straße ) Kirchhofstraße
C52: 520 | D52: 44777 | E52: Vollsperrung | G52: Bochum | K52: Steinhausstraße, Weg am Kötterberg zwischen Haus Nr. 50 - 86
C53: 530 | D53: 44777 | E53: Nachtfahrverbot | G53: Bochum | K53: Wallbaumweg zwischen Hauptstraße und Am Heerbusch ( nur von 22 - 6 h)
A54: x | C54: 540 | D54: 45134 | E54: Vollsperrung aufgehoben | G54: Essen | K54: Esmarchstr. an der Uni-Klinik
C55: 550 | D55: 45239 | E55: Nachtfahrverbot | G55: Essen-Werden | K55: Pörtingsiepen Zufahrt Haus Scheppen
C56: 560 | D56: 46045 | E56: Nachtfahrverbot | G56: Oberhausen | K56: "Kastellstraße mit Zeichen 255 StVO, in der Zeit von 20.00 - 5.00 Uhr
C57: 570 | D57: 46244 | E57: Vollsperrung | G57: Bottrop | K57: Straße ""Zur Grafenmühle"" ist in der Nähe des bekannten Motorradtreffpunktes ""Grafenmühle"" östlich dieses Bereiches Fahrtrichtung Osten für den Motorradverkehr gesperrt."
C58: 580 | D58: 47441 | E58: Nachtfahrverbot | G58: Moers | K58: Am Neumarkt
C59: 590 | D59: 49808 | E59: Nachtfahrverbot | G59: Lingen (Ems) | K59: 22.00-06.00 Uhr Baccumer Straße und Schlachterstraße
A60: x | B60: 51545 SaSo -Spurkenbach -Waldbröl | C60: 600 | D60: 51545 | E60: Wochenend und Feiertagssperrung | G60: Waldbröl-Schladern | H60: NRW | I60: B 256 | K60: Das Befahren der B 256 ab der Einmündung zur Gemeindestraße nach Seifen ( ca. 300 m südlich der Kreuzung Nutscheid) in Fahrtrichtung Schladern und ab der südlichen Einmündung B 256 nach Seifen (Höhe Spurkenbach) in Fahrtrichtung Waldbröl wird an Wochenenden sowie an Feiertagen in der Zeit von 08.00 Uhr bis 22.00 Uhr in den Monaten März bis einschließlich Oktober für Motorräder untersagt. | L60: x
A61: x | B61: 51766 SaSo -Remshagen -Bickenbach | C61: 610 | D61: 51789 | E61: Wochenend und Feiertagssperrung | G61: Lindlar | K61: Die K19 ist zwischen Lindlar und Engelskirchen zu folgenden Zeiten gesperrt.Mo.-Fr. 17-22 Uhr und Sa. So. Feiertags von 8-22 Uhr. Die Klage gegen die Sperrung durch uns läuft.
C62: 620 | D62: 52058 | E62: Vollsperrung | G62: Aachen | K62: Kupferstraße oberhalb der Einmündung Theresienstraße gesperrt. Zur Nachtzeit besteht dort darüber hinaus eine Fahrverbot für jeglichen Kraftfahrzeugverkehr.
A63: x | B63: 52152 SaSo -Woffelsbach -Streckenborn | C63: 630 | D63: 52152 | E63: Wochenend und Feiertagssperrung | G63: Simmerath | H63: NRW | I63: L 128 | K63: "L 128 zwischen Ortsausfahrt Steckenborn (Richtung Woffelsbach) bis Ortseinfahrt Woffelsbach, Einmündung ""Schilsbachstraße"" und umgekehrt an Samstagen, Sonntagen und Feiertagen " | L63: x
C64: 640 | D64: 52152 | E64: Nachtfahrverbot | G64: Simmerath | K64: gesamte Ortslage Rurberg täglich von 22.00 bis 06.00 Uhr
C65: 650 | D65: 52396 | E65: Nachtfahrverbot | G65: Heimbach/Rursee | K65: Stadtkern Heimbach 22:00 - 06:00 Uhr
C66: 660 | D66: 53111 | E66: Nachtfahrverbot | G66: Bonn | K66: Wilhelmstraße und der Lotharstraße ab Graf-Stauffenberg-Straße Richtung Süden.
C67: 670 | D67: 53474 | E67: Nachtfahrverbot | G67: Bad Neuenahr-Ahrweiler | K67: Kurgebiet
C68: 680 | D68: 53902 | E68: Nachtfahrverbot | G68: Bad Münstereifel | K68: Die Innenstadt ist in der Zeit zwischen 22:00 Uhr und 08:00 Uhr für Motorräder gesperrt. Die Sperrung erfolgt ab den jeweiligen Stadttoren.
A69: x | C69: 690 | D69: 53902 | E69: Wochenend und Feiertagssperrung | G69: Eicherscheid | I69: L 165 | K69: L 165 Eicherscheid Richtung Schuld
C70: 700 | D70: 54550 | E70: Nachtfahrverbot | G70: Daun | K70: Innenstadt
C71: 710 | D71: 55545 | E71: Nachtfahrverbot | G71: Bad Kreuznach | K71: Im Bereich der Ringstraße zwischen Rheingrafenstraße und Mannheimer Straße eine solche Regelung: 21 - 7 h sowie Anlieger frei.
C72: 715 | D72: 55576 | E72: Vollsperrung aufgehoben | G72: Sprendlingen | H72: Rheinland-Pfalz | I72: L415 | J72: Sprendlinger Strasse | K72: Ab dem 11. Aprill 2018 wurde die Strecke zwischen Sprendlingen und Ober- Hilbersheim für Motorräder gesperrt. | L72: x
C73: 720 | D73: 56203 | E73: Nachtfahrverbot | G73: Höhr-Grenzhausen | K73: Stadtgebiet
B74: 56323 Voll -Dieblich -Waldesch | C74: 730 | D74: 56332 | E74: Vollsperrung | G74: Dieblich / Kondertal | K74: L 208 zwischen der Einmündung B 49 und K 69 (Kondertal)wegen Straßenschäden für Mototräder gesperrt.
A75: x | B75: 56864 Voll -Bad Bertrich -Reil | C75: 740 | E75: Vollsperrung | K75: von 8:00-17:00 und 19:00-6:00 Uhr gesperrt
C76: 750 | D76: 57074 | E76: Nachtfahrverbot | G76: Siegen | K76: Löhrstraße und die Kohlbettstraße und Hinterstraße für Motorräder, in der Zeit von 20-6 Uhr, gesperrt.
C77: 760 | D77: 57334 | E77: Nachtfahrverbot | G77: Bad Laasphe | K77: Höhenweg in der Zeit von 22-6 h
C78: 770 | D78: 57439 | E78: Nachtfahrverbot | G78: Attendorn | K78: Bemerkung: Waldenburger Weg Richtung Biggesee (Waldenburger Bucht) und Campingplatz Waldenburg
A79: x | B79: 58239 SaSo -Ergste -Stübbecken | C79: 780 | D79: 58239 | E79: Wochenend und Feiertagssperrung | G79: Schwerte | H79: NRW | I79: B 236 | K79: Bundesstraße B236 zwischen Schwerte-Ergste und Letmathe | L79: x
B80: 58285 Voll -Ennepetal | C80: 790 | D80: 58285 | E80: Vollsperrung | G80: Gevelsberg | H80: NRW | I80: B7 | K80: Gevelsberg B7 Kruiner Tunnel In Fahrtrichtung Ennepetal für Motorräder gesperrt- aufgrund hoher Unfallzahlen mit Kräder. Im Tunnelverlauf rechts verlegte Eisenbahnschienen | L80: x
A81: x | B81: 58339 Voll -Breckerfeld -Priorei | C81: 800 | D81: 58339 | E81: Vollsperrung | G81: Hagen/Volemtal | H81: NRW | I81: L 701 | J81: Osemundstraße Prioreier Straße | K81: Osemundstr. Hagen-Priorei. Anwohner im Bereich der Osemundstr. erhalten auf Nachfrage eine Ausnahmegenehmigung zum Befahren der Straße. | L81: x
C82: 810 | D82: 58638 | E82: Wochenend und Feiertagssperrung | G82: Letmate | K82: Bundesstraße B236 zwischen Letmathe und Schwerte-Ergste
C83: 820 | D83: 58849 | E83: Vollsperrung aufgehoben | F83: Nordhelle | G83: Herscheid | H83: NRW | I83: L 707 | J83: Ebbestrasse | K83: 1. April bis 31.Oktober Vollsperrung der L707 (Nordhelle) zwischen der Zufahrt zum Robert-Kolb-Turm und der Einmündung L 696 bei Herscheid-Reblin | L83: x
C84: 830 | D84: 59368 | E84: Nachtfahrverbot | G84: Werne/Lippe | K84: Stadtgebiet
C85: 840 | D85: 59505 | E85: Nachtfahrverbot | G85: Bad Sassendorf | K85: Wasserstrasse
A86: x | B86: 59821 SaSo -Arnsberg -Sundern | C86: 850 | D86: 59821 | E86: Wochenend und Feiertagssperrung | F86: Ochsenkopf | G86: Arnsberg | H86: NRW | I86: L 685 | J86: Sunderner Str. In der Flamke | K86: Ochsenkopf zwischen Arnsberg und Sundern: Sperrung an Wochenenden und an den Feiertagen für Krafträder (00 - 24 Uhr). Grundsätzliche Ausnahmen sind nicht erteilt. | L86: x
C87: 860 | D87: 59846 | E87: Wochenend und Feiertagssperrung | G87: Sundern | K87: Ochsenkopf zwischen Arnsberg und Sundern: Sperrung an Wochenenden und an den Feiertagen für Krafträder (00 - 24 Uhr). Grundsätzliche Ausnahmen sind nicht erteilt.
A88: x | B88: 59581 SaSo -Meschede -Hirschberg | C88: 870 | D88: 59872 | E88: Wochenend und Feiertagssperrung | G88: Meschede | K88: Die L 856 abgehend von der B55 Mescheder Landstraße Richtung Hirschberg. Hirschberger Str. Nur vorübergehend, bis Rüttelstreifen eingebaut sind.
C89: 880 | D89: 61231 | E89: Nachtfahrverbot | G89: Bad Nauheim | K89: Kurgebiet/ Innenstadt
B90: 61279 Voll -Grävenwiesbach -Waldsolms | C90: 890 | E90: Vollsperrung
C91: 900 | D91: 61389 | E91: Nachtfahrverbot | G91: Gemeinde Schmitten | K91: Großer Feldberg Nachtfahrverbot von 22-8 Uhr
C92: 902 | D92: 61389 | E92: Vollsperrung | F92: Feldberggebiet | G92: Gemeinde Schmitten | H92: Hessen | I92: L3004, L3024, L3276 | J92: Feldberggebiet | K92: Versuchssperrungen im Feldberggebiet für Motorradfahrer im Mai und September Die Sperrung wird im Mai am 11.5. um null Uhr beginnen, sie endet am 19.5. um Mitternacht. Die zweite Sperrung findet im September statt und zwar beginnend am 7.9. null Uhr bis Sonntag, 15.9., 24 Uhr. Gesperrt wird die L 3004 ab Ortstafel Oberursel bis Ortstafel Schmitten, die L 3024 ab Sandplacken bis kurz vor der Feldbergzufahrt aus Richtung Sandplacken und die L3276 vom Sandplacken bis Oberreifenberg. | L92: x
C93: 910 | D93: 63699 | E93: Vollsperrung | G93: Kefenrod/Hitzkirchen | K93: Richtung 63636 Brachttal Vollsperrung der L3443. Die L3443 ist wohl erst seit kurzem zwischen 63699 Kefenrod/Hitzkirchen und 63636 Brachttal voll gesperrt.
A94: x | B94: 64668 SaSo -Zotzenbach -Wald-Michelbach | C94: 920 | D94: 64668 | E94: Wochenend und Feiertagssperrung | F94: Kreidacher Höhe | G94: Zotzenbach | H94: Hessen | I94: L 3409 | J94: Stallenkandel | K94: Greidacher Höhe Landesstraße 3409 zwischen dem Rimbacher Ortsteil Zotzenbach und der Kreidacher Höhe (Stallenkandel)Samstagen ab 14.00 Uhr sowie an Sonn- und Feiertagen | L94: x
C95: 930 | D95: 64689 | E95: Nachtfahrverbot | G95: Grasellenbach | K95: Göttersbacher Strasse
A96: x | B96: 64743 SaSo -Hetzbach -Kailbach | C96: 940 | D96: 64743 | E96: Wochenend und Feiertagssperrung | G96: Beerfelden- Oberzent | H96: Hessen | K96: Beerfelden-Hetzbach bis Hesseneck-Kailbach | L96: x
C97: 950 | D97: 64743 | E97: Nachtfahrverbot | G97: Beerfelden | K97: Eberbacher Weg
A98: x | B98: 64759 SaSo -Sensbachtal -Beerfelden | C98: 960 | D98: 64759 | E98: Wochenend und Feiertagssperrung | F98: Obersensbachtal | G98: Sensbachtal | H98: Hessen | I98: L3120 | J98: Sennsbacher Str. | K98: Obersensbachtal | L98: x
A99: x | C99: 970 | D99: 65185 | E99: Vollsperrung | G99: Wiesbaden | K99: Mehrere Straßen in der Innenstadt
C100: 980 | D100: 65307 | E100: Nachtfahrverbot | G100: Bad Schwalbach | K100: Martha von Opel Weg
...

Sheet Dateiname_Pfad_Metadaten
A1: ID | B1: Name der Örtlichkeit | C1: Ort | D1: Bundesland | E1: Straßenbezeichnung | F1: Straßenname | G1: Webrelevant | I1: Dateiname | J1: Seiten Name / Pfad Name | K1: Meta Titel | L1: Beschreibung | M1: Pfad | N1: Pfad sauber
A2: =Grundliste!C2 -> 10 | B2: =VLOOKUP(A2,Grundliste!$C1:$L167,4) -> Polenztal | C2: =VLOOKUP(A2,Grundliste!$C1:$L167,5) -> Hohnstein | D2: =VLOOKUP(A2,Grundliste!$C1:$L167,6) -> Sachsen | E2: =VLOOKUP(A2,Grundliste!$C1:$L167,7) -> S 165 | F2: =VLOOKUP(A2,Grundliste!$C1:$L167,8) -> Polenztalstrasse | G2: =VLOOKUP(A2,Grundliste!$C1:$L167,10) -> x | H2: =Grundliste!E2 -> Wochenend und Feiertagssperrung | I2: =CONCATENATE(A2,",",B2,",",C2,",",D2,",",E2,",",F2) -> 10,Polenztal,Hohnstein,Sachsen,S 165,Polenztalstrasse | J2: =CONCATENATE("Streckensperrung: ",D2," ",C2," ",F2," ",E2," ",B2," ",TEXT(A2,"""#""00000")) -> Streckensperrung: Sachsen Hohnstein Polenztalstrasse S 165 Polenztal #00010 | K2: =CONCATENATE("Streckensperrung: ",D2," ",C2," ",F2," ",E2," ",B2," - ",H2) -> Streckensperrung: Sachsen Hohnstein Polenztalstrasse S 165 Polenztal - Wochenend und Feiertagssperrung | L2: =CONCATENATE("Hier findest Du die Informationen zur Streckensperrung: ",D2," ",C2," ",F2," ",E2," ",B2," - ",H2) -> Hier findest Du die Informationen zur Streckensperrung: Sachsen Hohnstein Polenztalstrasse S 165 Polenztal - Wochenend und Feiertagssperrung | M2: =CONCATENATE(TEXT(A2,"""ID""00000"),"-",D2,"-",C2,"-",F2,"-",E2,"-",B2) -> ID00010-Sachsen-Hohnstein-Polenztalstrasse-S 165-Polenztal | N2: =(SUBSTITUTE(SUBSTITUTE(SUBSTITUTE(SUBSTITUTE(SUBSTITUTE(SUBSTITUTE(LOWER(TRIM(M2)),"ä","ae"),"ö","oe"),"ü","ue"),"ß","ss"),"--","-")," ","_")) -> id00010-sachsen-hohnstein-polenztalstrasse-s_165-polenztal
A3: =Grundliste!C3 -> 20 | B3: =VLOOKUP(A3,Grundliste!$C2:$L168,4) -> 0 | C3: =VLOOKUP(A3,Grundliste!$C2:$L168,5) -> Leipzig | D3: =VLOOKUP(A3,Grundliste!$C2:$L168,6) -> 0 | E3: =VLOOKUP(A3,Grundliste!$C2:$L168,7) -> 0 | F3: =VLOOKUP(A3,Grundliste!$C2:$L168,8) -> 0 | G3: =VLOOKUP(A3,Grundliste!$C2:$L168,10) -> 0 | H3: =Grundliste!E3 -> Vollsperrung
A4: =Grundliste!C4 -> 30 | B4: =VLOOKUP(A4,Grundliste!$C3:$L169,4) -> 0 | C4: =VLOOKUP(A4,Grundliste!$C3:$L169,5) -> Heiligenkreuz | D4: =VLOOKUP(A4,Grundliste!$C3:$L169,6) -> 0 | E4: =VLOOKUP(A4,Grundliste!$C3:$L169,7) -> 0 | F4: =VLOOKUP(A4,Grundliste!$C3:$L169,8) -> 0 | G4: =VLOOKUP(A4,Grundliste!$C3:$L169,10) -> 0 | H4: =Grundliste!E4 -> Wochenend und Feiertagssperrung
A5: =Grundliste!C5 -> 40 | B5: =VLOOKUP(A5,Grundliste!$C4:$L170,4) -> 0 | C5: =VLOOKUP(A5,Grundliste!$C4:$L170,5) -> Kühlungsborn | D5: =VLOOKUP(A5,Grundliste!$C4:$L170,6) -> 0 | E5: =VLOOKUP(A5,Grundliste!$C4:$L170,7) -> 0 | F5: =VLOOKUP(A5,Grundliste!$C4:$L170,8) -> 0 | G5: =VLOOKUP(A5,Grundliste!$C4:$L170,10) -> 0 | H5: =Grundliste!E5 -> Nachtfahrverbot
A6: =Grundliste!C6 -> 50 | B6: =VLOOKUP(A6,Grundliste!$C5:$L171,4) -> 0 | C6: =VLOOKUP(A6,Grundliste!$C5:$L171,5) -> Engelschoff | D6: =VLOOKUP(A6,Grundliste!$C5:$L171,6) -> 0 | E6: =VLOOKUP(A6,Grundliste!$C5:$L171,7) -> 0 | F6: =VLOOKUP(A6,Grundliste!$C5:$L171,8) -> 0 | G6: =VLOOKUP(A6,Grundliste!$C5:$L171,10) -> 0 | H6: =Grundliste!E6 -> Vollsperrung
A7: =Grundliste!C7 -> 60 | B7: =VLOOKUP(A7,Grundliste!$C6:$L172,4) -> 0 | C7: =VLOOKUP(A7,Grundliste!$C6:$L172,5) -> Hammah | D7: =VLOOKUP(A7,Grundliste!$C6:$L172,6) -> 0 | E7: =VLOOKUP(A7,Grundliste!$C6:$L172,7) -> 0 | F7: =VLOOKUP(A7,Grundliste!$C6:$L172,8) -> 0 | G7: =VLOOKUP(A7,Grundliste!$C6:$L172,10) -> 0 | H7: =Grundliste!E7 -> Vollsperrung
A8: =Grundliste!C8 -> 70 | B8: =VLOOKUP(A8,Grundliste!$C7:$L173,4) -> 0 | C8: =VLOOKUP(A8,Grundliste!$C7:$L173,5) -> Travemünde | D8: =VLOOKUP(A8,Grundliste!$C7:$L173,6) -> 0 | E8: =VLOOKUP(A8,Grundliste!$C7:$L173,7) -> 0 | F8: =VLOOKUP(A8,Grundliste!$C7:$L173,8) -> 0 | G8: =VLOOKUP(A8,Grundliste!$C7:$L173,10) -> 0 | H8: =Grundliste!E8 -> Nachtfahrverbot
A9: =Grundliste!C9 -> 80 | B9: =VLOOKUP(A9,Grundliste!$C8:$L174,4) -> 0 | C9: =VLOOKUP(A9,Grundliste!$C8:$L174,5) -> Timmendorfer Strand | D9: =VLOOKUP(A9,Grundliste!$C8:$L174,6) -> 0 | E9: =VLOOKUP(A9,Grundliste!$C8:$L174,7) -> 0 | F9: =VLOOKUP(A9,Grundliste!$C8:$L174,8) -> 0 | G9: =VLOOKUP(A9,Grundliste!$C8:$L174,10) -> 0 | H9: =Grundliste!E9 -> Nachtfahrverbot
A10: =Grundliste!C10 -> 90 | B10: =VLOOKUP(A10,Grundliste!$C9:$L175,4) -> 0 | C10: =VLOOKUP(A10,Grundliste!$C9:$L175,5) -> Scharbeutz Ortsteil Haffkrug | D10: =VLOOKUP(A10,Grundliste!$C9:$L175,6) -> 0 | E10: =VLOOKUP(A10,Grundliste!$C9:$L175,7) -> 0 | F10: =VLOOKUP(A10,Grundliste!$C9:$L175,8) -> 0 | G10: =VLOOKUP(A10,Grundliste!$C9:$L175,10) -> 0 | H10: =Grundliste!E10 -> Nachtfahrverbot
A11: =Grundliste!C11 -> 100 | B11: =VLOOKUP(A11,Grundliste!$C10:$L176,4) -> 0 | C11: =VLOOKUP(A11,Grundliste!$C10:$L176,5) -> Eutin | D11: =VLOOKUP(A11,Grundliste!$C10:$L176,6) -> 0 | E11: =VLOOKUP(A11,Grundliste!$C10:$L176,7) -> 0 | F11: =VLOOKUP(A11,Grundliste!$C10:$L176,8) -> 0 | G11: =VLOOKUP(A11,Grundliste!$C10:$L176,10) -> 0 | H11: =Grundliste!E11 -> Nachtfahrverbot
A12: =Grundliste!C12 -> 110 | B12: =VLOOKUP(A12,Grundliste!$C11:$L177,4) -> 0 | C12: =VLOOKUP(A12,Grundliste!$C11:$L177,5) -> Bad Malente-Gremsmühlen | D12: =VLOOKUP(A12,Grundliste!$C11:$L177,6) -> 0 | E12: =VLOOKUP(A12,Grundliste!$C11:$L177,7) -> 0 | F12: =VLOOKUP(A12,Grundliste!$C11:$L177,8) -> 0 | G12: =VLOOKUP(A12,Grundliste!$C11:$L177,10) -> 0 | H12: =Grundliste!E12 -> Nachtfahrverbot
A13: =Grundliste!C13 -> 120 | B13: =VLOOKUP(A13,Grundliste!$C12:$L178,4) -> 0 | C13: =VLOOKUP(A13,Grundliste!$C12:$L178,5) -> Grömitz | D13: =VLOOKUP(A13,Grundliste!$C12:$L178,6) -> 0 | E13: =VLOOKUP(A13,Grundliste!$C12:$L178,7) -> 0 | F13: =VLOOKUP(A13,Grundliste!$C12:$L178,8) -> 0 | G13: =VLOOKUP(A13,Grundliste!$C12:$L178,10) -> 0 | H13: =Grundliste!E13 -> Nachtfahrverbot
A14: =Grundliste!C14 -> 130 | B14: =VLOOKUP(A14,Grundliste!$C13:$L179,4) -> 0 | C14: =VLOOKUP(A14,Grundliste!$C13:$L179,5) -> Weißenhäuser Strand | D14: =VLOOKUP(A14,Grundliste!$C13:$L179,6) -> 0 | E14: =VLOOKUP(A14,Grundliste!$C13:$L179,7) -> 0 | F14: =VLOOKUP(A14,Grundliste!$C13:$L179,8) -> 0 | G14: =VLOOKUP(A14,Grundliste!$C13:$L179,10) -> 0 | H14: =Grundliste!E14 -> Nachtfahrverbot
... A19: =Grundliste!C19 -> 180 | B19: =VLOOKUP(A19,Grundliste!$C18:$L184,4) -> 0 | C19: =VLOOKUP(A19,Grundliste!$C18:$L184,5) -> Bremerhaven | D19: =VLOOKUP(A19,Grundliste!$C18:$L184,6) -> 0 | E19: =VLOOKUP(A19,Grundliste!$C18:$L184,7) -> 0 | F19: =VLOOKUP(A19,Grundliste!$C18:$L184,8) -> 0 | G19: =VLOOKUP(A19,Grundliste!$C18:$L184,10) -> 0 | H19: =Grundliste!E19 -> Nachtfahrverbot
A20: =Grundliste!C20 -> 190 | B20: =VLOOKUP(A20,Grundliste!$C19:$L185,4) -> Elbufer | C20: =VLOOKUP(A20,Grundliste!$C19:$L185,5) -> Hitzacker | D20: =VLOOKUP(A20,Grundliste!$C19:$L185,6) -> Niedersachsen | E20: =VLOOKUP(A20,Grundliste!$C19:$L185,7) -> K19/K36 | F20: =VLOOKUP(A20,Grundliste!$C19:$L185,8) -> Elbuferstraße | G20: =VLOOKUP(A20,Grundliste!$C19:$L185,10) -> x | H20: =Grundliste!E20 -> Wochenend und Feiertagssperrung | I20: =CONCATENATE(A20,",",B20,",",C20,",",D20,",",E20,",",F20) -> 190,Elbufer,Hitzacker,Niedersachsen,K19/K36,Elbuferstraße | J20: =CONCATENATE("Streckensperrung: ",D20," ",C20," ",F20," ",E20," ",B20," ",TEXT(A20,"""#""00000")) -> Streckensperrung: Niedersachsen Hitzacker Elbuferstraße K19/K36 Elbufer #00190 | K20: =CONCATENATE("Streckensperrung: ",D20," ",C20," ",F20," ",E20," ",B20," - ",H20) -> Streckensperrung: Niedersachsen Hitzacker Elbuferstraße K19/K36 Elbufer - Wochenend und Feiertagssperrung | L20: =CONCATENATE("Hier findest Du die Informationen zur Streckensperrung: ",D20," ",C20," ",F20," ",E20," ",B20," - ",H20) -> Hier findest Du die Informationen zur Streckensperrung: Niedersachsen Hitzacker Elbuferstraße K19/K36 Elbufer - Wochenend und Feiertagssperrung | M20: =CONCATENATE(TEXT(A20,"""ID""00000"),"-",D20,"-",C20,"-",F20,"-",E20,"-",B20) -> ID00190-Niedersachsen-Hitzacker-Elbuferstraße-K19/K36-Elbufer | N20: =SUBSTITUTE(SUBSTITUTE(SUBSTITUTE(SUBSTITUTE(SUBSTITUTE(SUBSTITUTE(LOWER(TRIM(M20)),"ä","ae"),"ö","oe"),"ü","ue"),"ß","ss"),"--","-")," ","_") -> id00190-niedersachsen-hitzacker-elbuferstrasse-k19/k36-elbufer
A21: =Grundliste!C21 -> 200 | B21: =VLOOKUP(A21,Grundliste!$C20:$L186,4) -> 0 | C21: =VLOOKUP(A21,Grundliste!$C20:$L186,5) -> Bad Bevensen | D21: =VLOOKUP(A21,Grundliste!$C20:$L186,6) -> 0 | E21: =VLOOKUP(A21,Grundliste!$C20:$L186,7) -> 0 | F21: =VLOOKUP(A21,Grundliste!$C20:$L186,8) -> 0 | G21: =VLOOKUP(A21,Grundliste!$C20:$L186,10) -> 0
A22: =Grundliste!C22 -> 210 | B22: =VLOOKUP(A22,Grundliste!$C21:$L187,4) -> 0 | C22: =VLOOKUP(A22,Grundliste!$C21:$L187,5) -> Ebstorf | D22: =VLOOKUP(A22,Grundliste!$C21:$L187,6) -> 0 | E22: =VLOOKUP(A22,Grundliste!$C21:$L187,7) -> 0 | F22: =VLOOKUP(A22,Grundliste!$C21:$L187,8) -> 0 | G22: =VLOOKUP(A22,Grundliste!$C21:$L187,10) -> 0
A23: =Grundliste!C23 -> 220 | B23: =VLOOKUP(A23,Grundliste!$C22:$L188,4) -> 0 | C23: =VLOOKUP(A23,Grundliste!$C22:$L188,5) -> Barsinghausen | D23: =VLOOKUP(A23,Grundliste!$C22:$L188,6) -> 0 | E23: =VLOOKUP(A23,Grundliste!$C22:$L188,7) -> 0 | F23: =VLOOKUP(A23,Grundliste!$C22:$L188,8) -> 0 | G23: =VLOOKUP(A23,Grundliste!$C22:$L188,10) -> 0
A24: =Grundliste!C24 -> 230 | B24: =VLOOKUP(A24,Grundliste!$C23:$L189,4) -> Nienstedter Pass | C24: =VLOOKUP(A24,Grundliste!$C23:$L189,5) -> Bad Münder | D24: =VLOOKUP(A24,Grundliste!$C23:$L189,6) -> Niedersachsen | E24: =VLOOKUP(A24,Grundliste!$C23:$L189,7) -> L 401 | G24: =VLOOKUP(A24,Grundliste!$C23:$L189,10) -> x | H24: =Grundliste!E24 -> Wochenend und Feiertagssperrung | I24: =CONCATENATE(A24,",",B24,",",C24,",",D24,",",E24,",",F24) -> 230,Nienstedter Pass,Bad Münder,Niedersachsen,L 401, | J24: =CONCATENATE("Streckensperrung: ",D24," ",C24," ",F24," ",E24," ",B24," ",TEXT(A24,"""#""00000")) -> Streckensperrung: Niedersachsen Bad Münder L 401 Nienstedter Pass #00230 | K24: =CONCATENATE("Streckensperrung: ",D24," ",C24," ",F24," ",E24," ",B24," - ",H24) -> Streckensperrung: Niedersachsen Bad Münder L 401 Nienstedter Pass - Wochenend und Feiertagssperrung | L24: =CONCATENATE("Hier findest Du die Informationen zur Streckensperrung: ",D24," ",C24," ",F24," ",E24," ",B24," - ",H24) -> Hier findest Du die Informationen zur Streckensperrung: Niedersachsen Bad Münder L 401 Nienstedter Pass - Wochenend und Feiertagssperrung | M24: =CONCATENATE(TEXT(A24,"""ID""00000"),"-",D24,"-",C24,"-",F24,"-",E24,"-",B24) -> ID00230-Niedersachsen-Bad Münder--L 401-Nienstedter Pass | N24: =SUBSTITUTE(SUBSTITUTE(SUBSTITUTE(SUBSTITUTE(SUBSTITUTE(SUBSTITUTE(LOWER(TRIM(M24)),"ä","ae"),"ö","oe"),"ü","ue"),"ß","ss"),"--","-")," ","_") -> id00230-niedersachsen-bad_muender-l_401-nienstedter_pass
A25: =Grundliste!C25 -> 240 | B25: =VLOOKUP(A25,Grundliste!$C24:$L190,4) -> 0 | C25: =VLOOKUP(A25,Grundliste!$C24:$L190,5) -> Bad Nenndorf | D25: =VLOOKUP(A25,Grundliste!$C24:$L190,6) -> 0 | E25: =VLOOKUP(A25,Grundliste!$C24:$L190,7) -> 0 | F25: =VLOOKUP(A25,Grundliste!$C24:$L190,8) -> 0 | G25: =VLOOKUP(A25,Grundliste!$C24:$L190,10) -> 0
A26: =Grundliste!C26 -> 250 | C26: =VLOOKUP(A26,Grundliste!$C25:$L191,5) -> Rinteln | D26: =VLOOKUP(A26,Grundliste!$C25:$L191,6) -> Niedersachsen | E26: =VLOOKUP(A26,Grundliste!$C25:$L191,7) -> K 80 | G26: =VLOOKUP(A26,Grundliste!$C25:$L191,10) -> x | H26: =Grundliste!E26 -> Wochenend und Feiertagssperrung | I26: =CONCATENATE(A26,",",B26,",",C26,",",D26,",",E26,",",F26) -> 250, ,Rinteln,Niedersachsen,K 80, | J26: =CONCATENATE("Streckensperrung: ",D26," ",C26," ",F26," ",E26," ",B26," ",TEXT(A26,"""#""00000")) -> Streckensperrung: Niedersachsen Rinteln K 80 #00250 | K26: =CONCATENATE("Streckensperrung: ",D26," ",C26," ",F26," ",E26," ",B26," - ",H26) -> Streckensperrung: Niedersachsen Rinteln K 80 - Wochenend und Feiertagssperrung | L26: =CONCATENATE("Hier findest Du die Informationen zur Streckensperrung: ",D26," ",C26," ",F26," ",E26," ",B26," - ",H26) -> Hier findest Du die Informationen zur Streckensperrung: Niedersachsen Rinteln K 80 - Wochenend und Feiertagssperrung | M26: =CONCATENATE(TEXT(A26,"""ID""00000"),"-",D26,"-",C26,"-",F26,"-",E26,"-",B26) -> ID00250-Niedersachsen-Rinteln--K 80- | N26: =SUBSTITUTE(SUBSTITUTE(SUBSTITUTE(SUBSTITUTE(SUBSTITUTE(SUBSTITUTE(LOWER(TRIM(M26)),"ä","ae"),"ö","oe"),"ü","ue"),"ß","ss"),"--","-")," ","_") -> id00250-niedersachsen-rinteln-k_80-
A27: =Grundliste!C27 -> 260 | B27: =VLOOKUP(A27,Grundliste!$C26:$L192,4) -> Unabhängigkeitsstraße Westendorf | C27: =VLOOKUP(A27,Grundliste!$C26:$L192,5) -> Rinteln-Westendorf | D27: =VLOOKUP(A27,Grundliste!$C26:$L192,6) -> Niedersachsen | E27: =VLOOKUP(A27,Grundliste!$C26:$L192,7) -> K 74 | F27: =VLOOKUP(A27,Grundliste!$C26:$L192,8) -> Stolzenegge | G27: =VLOOKUP(A27,Grundliste!$C26:$L192,10) -> x | H27: =Grundliste!E27 -> Vollsperrung aufgehoben | I27: =CONCATENATE(A27,",",B27,",",C27,",",D27,",",E27,",",F27) -> 260,Unabhängigkeitsstraße Westendorf,Rinteln-Westendorf,Niedersachsen,K 74,Stolzenegge | J27: =CONCATENATE("Streckensperrung: ",D27," ",C27," ",F27," ",E27," ",B27," ",TEXT(A27,"""#""00000")) -> Streckensperrung: Niedersachsen Rinteln-Westendorf Stolzenegge K 74 Unabhängigkeitsstraße Westendorf #00260 | K27: =CONCATENATE("Streckensperrung: ",D27," ",C27," ",F27," ",E27," ",B27," - ",H27) -> Streckensperrung: Niedersachsen Rinteln-Westendorf Stolzenegge K 74 Unabhängigkeitsstraße Westendorf - Vollsperrung aufgehoben | L27: =CONCATENATE("Hier findest Du die Informationen zur Streckensperrung: ",D27," ",C27," ",F27," ",E27," ",B27," - ",H27) -> Hier findest Du die Informationen zur Streckensperrung: Niedersachsen Rinteln-Westendorf Stolzenegge K 74 Unabhängigkeitsstraße Westendorf - Vollsperrung aufgehoben | M27: =CONCATENATE(TEXT(A27,"""ID""00000"),"-",D27,"-",C27,"-",F27,"-",E27,"-",B27) -> ID00260-Niedersachsen-Rinteln-Westendorf-Stolzenegge-K 74-Unabhängigkeitsstraße Westendorf | N27: =SUBSTITUTE(SUBSTITUTE(SUBSTITUTE(SUBSTITUTE(SUBSTITUTE(SUBSTITUTE(LOWER(TRIM(M27)),"ä","ae"),"ö","oe"),"ü","ue"),"ß","ss"),"--","-")," ","_") -> id00260-niedersachsen-rinteln-westendorf-stolzenegge-k_74-unabhaengigkeitsstrasse_westendorf
A28: =Grundliste!C28 -> 270 | B28: =VLOOKUP(A28,Grundliste!$C27:$L193,4) -> 0 | C28: =VLOOKUP(A28,Grundliste!$C27:$L193,5) -> Messenkamp | D28: =VLOOKUP(A28,Grundliste!$C27:$L193,6) -> 0 | E28: =VLOOKUP(A28,Grundliste!$C27:$L193,7) -> 0 | F28: =VLOOKUP(A28,Grundliste!$C27:$L193,8) -> 0 | G28: =VLOOKUP(A28,Grundliste!$C27:$L193,10) -> 0
A29: =Grundliste!C29 -> 280 | B29: =VLOOKUP(A29,Grundliste!$C28:$L194,4) -> 0 | C29: =VLOOKUP(A29,Grundliste!$C28:$L194,5) -> Schloß Holte-Stukenbrock | D29: =VLOOKUP(A29,Grundliste!$C28:$L194,6) -> 0 | E29: =VLOOKUP(A29,Grundliste!$C28:$L194,7) -> 0 | F29: =VLOOKUP(A29,Grundliste!$C28:$L194,8) -> 0 | G29: =VLOOKUP(A29,Grundliste!$C28:$L194,10) -> 0
A30: =Grundliste!C30 -> 290 | B30: =VLOOKUP(A30,Grundliste!$C29:$L195,4) -> 0 | C30: =VLOOKUP(A30,Grundliste!$C29:$L195,5) -> Kassel | D30: =VLOOKUP(A30,Grundliste!$C29:$L195,6) -> 0 | E30: =VLOOKUP(A30,Grundliste!$C29:$L195,7) -> 0 | F30: =VLOOKUP(A30,Grundliste!$C29:$L195,8) -> 0 | G30: =VLOOKUP(A30,Grundliste!$C29:$L195,10) -> 0
A31: =Grundliste!C31 -> 300 | B31: =VLOOKUP(A31,Grundliste!$C30:$L196,4) -> 0 | C31: =VLOOKUP(A31,Grundliste!$C30:$L196,5) -> 0 | D31: =VLOOKUP(A31,Grundliste!$C30:$L196,6) -> 0 | E31: =VLOOKUP(A31,Grundliste!$C30:$L196,7) -> 0 | F31: =VLOOKUP(A31,Grundliste!$C30:$L196,8) -> 0 | G31: =VLOOKUP(A31,Grundliste!$C30:$L196,10) -> 0
A32: =Grundliste!C32 -> 310 | B32: =VLOOKUP(A32,Grundliste!$C31:$L197,4) -> 0 | C32: =VLOOKUP(A32,Grundliste!$C31:$L197,5) -> Bonbaden | D32: =VLOOKUP(A32,Grundliste!$C31:$L197,6) -> 0 | E32: =VLOOKUP(A32,Grundliste!$C31:$L197,7) -> 0 | F32: =VLOOKUP(A32,Grundliste!$C31:$L197,8) -> 0 | G32: =VLOOKUP(A32,Grundliste!$C31:$L197,10) -> 0
A33: =Grundliste!C33 -> 320 | C33: =VLOOKUP(A33,Grundliste!$C32:$L198,5) -> Hüttenberg | D33: =VLOOKUP(A33,Grundliste!$C32:$L198,6) -> Hessen | E33: =VLOOKUP(A33,Grundliste!$C32:$L198,7) -> K 355 | G33: =VLOOKUP(A33,Grundliste!$C32:$L198,10) -> x | H33: =Grundliste!E33 -> Vollsperrung | I33: =CONCATENATE(A33,",",B33,",",C33,",",D33,",",E33,",",F33) -> 320, ,Hüttenberg,Hessen,K 355, | J33: =CONCATENATE("Streckensperrung: ",D33," ",C33," ",F33," ",E33," ",B33," ",TEXT(A33,"""#""00000")) -> Streckensperrung: Hessen Hüttenberg K 355 #00320 | K33: =CONCATENATE("Streckensperrung: ",D33," ",C33," ",F33," ",E33," ",B33," - ",H33) -> Streckensperrung: Hessen Hüttenberg K 355 - Vollsperrung | L33: =CONCATENATE("Hier findest Du die Informationen zur Streckensperrung: ",D33," ",C33," ",F33," ",E33," ",B33," - ",H33) -> Hier findest Du die Informationen zur Streckensperrung: Hessen Hüttenberg K 355 - Vollsperrung | M33: =CONCATENATE(TEXT(A33,"""ID""00000"),"-",D33,"-",C33,"-",F33,"-",E33,"-",B33) -> ID00320-Hessen-Hüttenberg--K 355- | N33: =SUBSTITUTE(SUBSTITUTE(SUBSTITUTE(SUBSTITUTE(SUBSTITUTE(SUBSTITUTE(LOWER(TRIM(M33)),"ä","ae"),"ö","oe"),"ü","ue"),"ß","ss"),"--","-")," ","_") -> id00320-hessen-huettenberg-k_355-
A34: =Grundliste!C34 -> 330 | B34: =VLOOKUP(A34,Grundliste!$C33:$L199,4) -> 0 | C34: =VLOOKUP(A34,Grundliste!$C33:$L199,5) -> 0 | D34: =VLOOKUP(A34,Grundliste!$C33:$L199,6) -> 0 | E34: =VLOOKUP(A34,Grundliste!$C33:$L199,7) -> 0 | F34: =VLOOKUP(A34,Grundliste!$C33:$L199,8) -> 0 | G34: =VLOOKUP(A34,Grundliste!$C33:$L199,10) -> 0
A35: =Grundliste!C35 -> 340 | C35: =VLOOKUP(A35,Grundliste!$C34:$L200,5) -> Schöffengrund | D35: =VLOOKUP(A35,Grundliste!$C34:$L200,6) -> Hessen | G35: =VLOOKUP(A35,Grundliste!$C34:$L200,10) -> x | H35: =Grundliste!E35 -> Vollsperrung | I35: =CONCATENATE(A35,",",B35,",",C35,",",D35,",",E35,",",F35) -> 340, ,Schöffengrund,Hessen,, | J35: =CONCATENATE("Streckensperrung: ",D35," ",C35," ",F35," ",E35," ",B35," ",TEXT(A35,"""#""00000")) -> Streckensperrung: Hessen Schöffengrund #00340 | K35: =CONCATENATE("Streckensperrung: ",D35," ",C35," ",F35," ",E35," ",B35," - ",H35) -> Streckensperrung: Hessen Schöffengrund - Vollsperrung | L35: =CONCATENATE("Hier findest Du die Informationen zur Streckensperrung: ",D35," ",C35," ",F35," ",E35," ",B35," - ",H35) -> Hier findest Du die Informationen zur Streckensperrung: Hessen Schöffengrund - Vollsperrung | M35: =CONCATENATE(TEXT(A35,"""ID""00000"),"-",D35,"-",C35,"-",F35,"-",E35,"-",B35) -> ID00340-Hessen-Schöffengrund--- | N35: =SUBSTITUTE(SUBSTITUTE(SUBSTITUTE(SUBSTITUTE(SUBSTITUTE(SUBSTITUTE(LOWER(TRIM(M35)),"ä","ae"),"ö","oe"),"ü","ue"),"ß","ss"),"--","-")," ","_") -> id00340-hessen-schoeffengrund--
A36: =Grundliste!C36 -> 350 | B36: =VLOOKUP(A36,Grundliste!$C35:$L201,4) -> 0 | C36: =VLOOKUP(A36,Grundliste!$C35:$L201,5) -> Bad Hersfeld | D36: =VLOOKUP(A36,Grundliste!$C35:$L201,6) -> 0 | E36: =VLOOKUP(A36,Grundliste!$C35:$L201,7) -> 0 | F36: =VLOOKUP(A36,Grundliste!$C35:$L201,8) -> 0 | G36: =VLOOKUP(A36,Grundliste!$C35:$L201,10) -> 0
A37: =Grundliste!C37 -> 360 | B37: =VLOOKUP(A37,Grundliste!$C36:$L202,4) -> 0 | C37: =VLOOKUP(A37,Grundliste!$C36:$L202,5) -> Altengronau | D37: =VLOOKUP(A37,Grundliste!$C36:$L202,6) -> 0 | E37: =VLOOKUP(A37,Grundliste!$C36:$L202,7) -> 0 | F37: =VLOOKUP(A37,Grundliste!$C36:$L202,8) -> 0 | G37: =VLOOKUP(A37,Grundliste!$C36:$L202,10) -> 0
A38: =Grundliste!C38 -> 370 | B38: =VLOOKUP(A38,Grundliste!$C37:$L203,4) -> 0 | C38: =VLOOKUP(A38,Grundliste!$C37:$L203,5) -> Bad Liebenstein | D38: =VLOOKUP(A38,Grundliste!$C37:$L203,6) -> 0 | E38: =VLOOKUP(A38,Grundliste!$C37:$L203,7) -> 0 | F38: =VLOOKUP(A38,Grundliste!$C37:$L203,8) -> 0 | G38: =VLOOKUP(A38,Grundliste!$C37:$L203,10) -> 0
A39: =Grundliste!C39 -> 380 | B39: =VLOOKUP(A39,Grundliste!$C38:$L204,4) -> 0 | C39: =VLOOKUP(A39,Grundliste!$C38:$L204,5) -> Katlenburg | D39: =VLOOKUP(A39,Grundliste!$C38:$L204,6) -> 0 | E39: =VLOOKUP(A39,Grundliste!$C38:$L204,7) -> 0 | F39: =VLOOKUP(A39,Grundliste!$C38:$L204,8) -> 0 | G39: =VLOOKUP(A39,Grundliste!$C38:$L204,10) -> 0
A40: =Grundliste!C40 -> 390 | B40: =VLOOKUP(A40,Grundliste!$C39:$L205,4) -> 0 | C40: =VLOOKUP(A40,Grundliste!$C39:$L205,5) -> Bad Lauterberg | D40: =VLOOKUP(A40,Grundliste!$C39:$L205,6) -> 0 | E40: =VLOOKUP(A40,Grundliste!$C39:$L205,7) -> 0 | F40: =VLOOKUP(A40,Grundliste!$C39:$L205,8) -> 0 | G40: =VLOOKUP(A40,Grundliste!$C39:$L205,10) -> 0
A41: =Grundliste!C41 -> 400 | B41: =VLOOKUP(A41,Grundliste!$C40:$L206,4) -> 0 | C41: =VLOOKUP(A41,Grundliste!$C40:$L206,5) -> Bad Grund | D41: =VLOOKUP(A41,Grundliste!$C40:$L206,6) -> 0 | E41: =VLOOKUP(A41,Grundliste!$C40:$L206,7) -> 0 | F41: =VLOOKUP(A41,Grundliste!$C40:$L206,8) -> 0 | G41: =VLOOKUP(A41,Grundliste!$C40:$L206,10) -> 0
A42: =Grundliste!C42 -> 410 | B42: =VLOOKUP(A42,Grundliste!$C41:$L207,4) -> 0 | C42: =VLOOKUP(A42,Grundliste!$C41:$L207,5) -> Bad Gandersheim | D42: =VLOOKUP(A42,Grundliste!$C41:$L207,6) -> 0 | E42: =VLOOKUP(A42,Grundliste!$C41:$L207,7) -> 0 | F42: =VLOOKUP(A42,Grundliste!$C41:$L207,8) -> 0 | G42: =VLOOKUP(A42,Grundliste!$C41:$L207,10) -> 0
A43: =Grundliste!C43 -> 420 | B43: =VLOOKUP(A43,Grundliste!$C42:$L208,4) -> 0 | C43: =VLOOKUP(A43,Grundliste!$C42:$L208,5) -> Bodenwerder | D43: =VLOOKUP(A43,Grundliste!$C42:$L208,6) -> 0 | E43: =VLOOKUP(A43,Grundliste!$C42:$L208,7) -> 0 | F43: =VLOOKUP(A43,Grundliste!$C42:$L208,8) -> 0 | G43: =VLOOKUP(A43,Grundliste!$C42:$L208,10) -> 0
A44: =Grundliste!C44 -> 430 | B44: =VLOOKUP(A44,Grundliste!$C43:$L209,4) -> 0 | C44: =VLOOKUP(A44,Grundliste!$C43:$L209,5) -> Werlaburgdorf | D44: =VLOOKUP(A44,Grundliste!$C43:$L209,6) -> Niedersachsen | E44: =VLOOKUP(A44,Grundliste!$C43:$L209,7) -> K83 | F44: =VLOOKUP(A44,Grundliste!$C43:$L209,8) -> Westendorf | G44: =VLOOKUP(A44,Grundliste!$C43:$L209,10) -> x | H44: =Grundliste!E44 -> Vollsperrung | I44: =CONCATENATE(A44,",",B44,",",C44,",",D44,",",E44,",",F44) -> 430,0,Werlaburgdorf,Niedersachsen,K83,Westendorf | J44: =CONCATENATE("Streckensperrung: ",D44," ",C44," ",F44," ",E44," ",B44," ",TEXT(A44,"""#""00000")) -> Streckensperrung: Niedersachsen Werlaburgdorf Westendorf K83 0 #00430 | K44: =CONCATENATE("Streckensperrung: ",D44," ",C44," ",F44," ",E44," ",B44," - ",H44) -> Streckensperrung: Niedersachsen Werlaburgdorf Westendorf K83 0 - Vollsperrung | L44: =CONCATENATE("Hier findest Du die Informationen zur Streckensperrung: ",D44," ",C44," ",F44," ",E44," ",B44," - ",H44) -> Hier findest Du die Informationen zur Streckensperrung: Niedersachsen Werlaburgdorf Westendorf K83 0 - Vollsperrung | M44: =CONCATENATE(TEXT(A44,"""ID""00000"),"-",D44,"-",C44,"-",F44,"-",E44,"-",B44) -> ID00430-Niedersachsen-Werlaburgdorf-Westendorf-K83-0 | N44: =SUBSTITUTE(SUBSTITUTE(SUBSTITUTE(SUBSTITUTE(SUBSTITUTE(SUBSTITUTE(LOWER(TRIM(M44)),"ä","ae"),"ö","oe"),"ü","ue"),"ß","ss"),"--","-")," ","_") -> id00430-niedersachsen-werlaburgdorf-westendorf-k83-0
A45: =Grundliste!C45 -> 440 | B45: =VLOOKUP(A45,Grundliste!$C44:$L210,4) -> 0 | C45: =VLOOKUP(A45,Grundliste!$C44:$L210,5) -> Bad Harzburg | D45: =VLOOKUP(A45,Grundliste!$C44:$L210,6) -> 0 | E45: =VLOOKUP(A45,Grundliste!$C44:$L210,7) -> 0 | F45: =VLOOKUP(A45,Grundliste!$C44:$L210,8) -> 0 | G45: =VLOOKUP(A45,Grundliste!$C44:$L210,10) -> 0
A46: =Grundliste!C46 -> 450 | B46: =VLOOKUP(A46,Grundliste!$C45:$L211,4) -> 0 | C46: =VLOOKUP(A46,Grundliste!$C45:$L211,5) -> Wegberg | D46: =VLOOKUP(A46,Grundliste!$C45:$L211,6) -> 0 | E46: =VLOOKUP(A46,Grundliste!$C45:$L211,7) -> 0 | F46: =VLOOKUP(A46,Grundliste!$C45:$L211,8) -> 0 | G46: =VLOOKUP(A46,Grundliste!$C45:$L211,10) -> 0
A47: =Grundliste!C47 -> 460 | B47: =VLOOKUP(A47,Grundliste!$C46:$L212,4) -> 0 | C47: =VLOOKUP(A47,Grundliste!$C46:$L212,5) -> Wuppertal | D47: =VLOOKUP(A47,Grundliste!$C46:$L212,6) -> 0 | E47: =VLOOKUP(A47,Grundliste!$C46:$L212,7) -> 0 | F47: =VLOOKUP(A47,Grundliste!$C46:$L212,8) -> 0 | G47: =VLOOKUP(A47,Grundliste!$C46:$L212,10) -> 0
A48: =Grundliste!C48 -> 470 | B48: =VLOOKUP(A48,Grundliste!$C47:$L213,4) -> 0 | C48: =VLOOKUP(A48,Grundliste!$C47:$L213,5) -> Wuppertal | D48: =VLOOKUP(A48,Grundliste!$C47:$L213,6) -> 0 | E48: =VLOOKUP(A48,Grundliste!$C47:$L213,7) -> 0 | F48: =VLOOKUP(A48,Grundliste!$C47:$L213,8) -> 0 | G48: =VLOOKUP(A48,Grundliste!$C47:$L213,10) -> 0
A49: =Grundliste!C49 -> 480 | B49: =VLOOKUP(A49,Grundliste!$C48:$L214,4) -> 0 | C49: =VLOOKUP(A49,Grundliste!$C48:$L214,5) -> Remscheid-Lennep | D49: =VLOOKUP(A49,Grundliste!$C48:$L214,6) -> 0 | E49: =VLOOKUP(A49,Grundliste!$C48:$L214,7) -> 0 | F49: =VLOOKUP(A49,Grundliste!$C48:$L214,8) -> 0 | G49: =VLOOKUP(A49,Grundliste!$C48:$L214,10) -> 0
A50: =Grundliste!C50 -> 490 | C50: =VLOOKUP(A50,Grundliste!$C49:$L215,5) -> Wermelskirchen | D50: =VLOOKUP(A50,Grundliste!$C49:$L215,6) -> NRW | E50: =VLOOKUP(A50,Grundliste!$C49:$L215,7) -> K18 | G50: =VLOOKUP(A50,Grundliste!$C49:$L215,10) -> x | H50: =Grundliste!E50 -> Vollsperrung | I50: =CONCATENATE(A50,",",B50,",",C50,",",D50,",",E50,",",F50) -> 490, ,Wermelskirchen,NRW,K18, | J50: =CONCATENATE("Streckensperrung: ",D50," ",C50," ",F50," ",E50," ",B50," ",TEXT(A50,"""#""00000")) -> Streckensperrung: NRW Wermelskirchen K18 #00490 | K50: =CONCATENATE("Streckensperrung: ",D50," ",C50," ",F50," ",E50," ",B50," - ",H50) -> Streckensperrung: NRW Wermelskirchen K18 - Vollsperrung | L50: =CONCATENATE("Hier findest Du die Informationen zur Streckensperrung: ",D50," ",C50," ",F50," ",E50," ",B50," - ",H50) -> Hier findest Du die Informationen zur Streckensperrung: NRW Wermelskirchen K18 - Vollsperrung | M50: =CONCATENATE(TEXT(A50,"""ID""00000"),"-",D50,"-",C50,"-",F50,"-",E50,"-",B50) -> ID00490-NRW-Wermelskirchen--K18- | N50: =SUBSTITUTE(SUBSTITUTE(SUBSTITUTE(SUBSTITUTE(SUBSTITUTE(SUBSTITUTE(LOWER(TRIM(M50)),"ä","ae"),"ö","oe"),"ü","ue"),"ß","ss"),"--","-")," ","_") -> id00490-nrw-wermelskirchen-k18-
A51: =Grundliste!C51 -> 510 | B51: =VLOOKUP(A51,Grundliste!$C51:$L217,4) -> 0 | C51: =VLOOKUP(A51,Grundliste!$C51:$L217,5) -> Herne | D51: =VLOOKUP(A51,Grundliste!$C51:$L217,6) -> 0 | E51: =VLOOKUP(A51,Grundliste!$C51:$L217,7) -> 0 | F51: =VLOOKUP(A51,Grundliste!$C51:$L217,8) -> 0 | G51: =VLOOKUP(A51,Grundliste!$C51:$L217,10) -> 0
A52: =Grundliste!C52 -> 520 | B52: =VLOOKUP(A52,Grundliste!$C51:$L218,4) -> 0 | C52: =VLOOKUP(A52,Grundliste!$C51:$L218,5) -> Bochum | D52: =VLOOKUP(A52,Grundliste!$C51:$L218,6) -> 0 | E52: =VLOOKUP(A52,Grundliste!$C51:$L218,7) -> 0 | F52: =VLOOKUP(A52,Grundliste!$C51:$L218,8) -> 0 | G52: =VLOOKUP(A52,Grundliste!$C51:$L218,10) -> 0
A53: =Grundliste!C53 -> 530 | B53: =VLOOKUP(A53,Grundliste!$C52:$L219,4) -> 0 | C53: =VLOOKUP(A53,Grundliste!$C52:$L219,5) -> Bochum | D53: =VLOOKUP(A53,Grundliste!$C52:$L219,6) -> 0 | E53: =VLOOKUP(A53,Grundliste!$C52:$L219,7) -> 0 | F53: =VLOOKUP(A53,Grundliste!$C52:$L219,8) -> 0 | G53: =VLOOKUP(A53,Grundliste!$C52:$L219,10) -> 0
A54: =Grundliste!C54 -> 540 | B54: =VLOOKUP(A54,Grundliste!$C53:$L220,4) -> 0 | C54: =VLOOKUP(A54,Grundliste!$C53:$L220,5) -> Essen | D54: =VLOOKUP(A54,Grundliste!$C53:$L220,6) -> 0 | E54: =VLOOKUP(A54,Grundliste!$C53:$L220,7) -> 0 | F54: =VLOOKUP(A54,Grundliste!$C53:$L220,8) -> 0 | G54: =VLOOKUP(A54,Grundliste!$C53:$L220,10) -> 0
A55: =Grundliste!C55 -> 550 | B55: =VLOOKUP(A55,Grundliste!$C54:$L221,4) -> 0 | C55: =VLOOKUP(A55,Grundliste!$C54:$L221,5) -> Essen-Werden | D55: =VLOOKUP(A55,Grundliste!$C54:$L221,6) -> 0 | E55: =VLOOKUP(A55,Grundliste!$C54:$L221,7) -> 0 | F55: =VLOOKUP(A55,Grundliste!$C54:$L221,8) -> 0 | G55: =VLOOKUP(A55,Grundliste!$C54:$L221,10) -> 0
A56: =Grundliste!C56 -> 560 | B56: =VLOOKUP(A56,Grundliste!$C55:$L222,4) -> 0 | C56: =VLOOKUP(A56,Grundliste!$C55:$L222,5) -> Oberhausen | D56: =VLOOKUP(A56,Grundliste!$C55:$L222,6) -> 0 | E56: =VLOOKUP(A56,Grundliste!$C55:$L222,7) -> 0 | F56: =VLOOKUP(A56,Grundliste!$C55:$L222,8) -> 0 | G56: =VLOOKUP(A56,Grundliste!$C55:$L222,10) -> 0
A57: =Grundliste!C57 -> 570 | B57: =VLOOKUP(A57,Grundliste!$C56:$L223,4) -> 0 | C57: =VLOOKUP(A57,Grundliste!$C56:$L223,5) -> Bottrop | D57: =VLOOKUP(A57,Grundliste!$C56:$L223,6) -> 0 | E57: =VLOOKUP(A57,Grundliste!$C56:$L223,7) -> 0 | F57: =VLOOKUP(A57,Grundliste!$C56:$L223,8) -> 0 | G57: =VLOOKUP(A57,Grundliste!$C56:$L223,10) -> 0
A58: =Grundliste!C58 -> 580 | B58: =VLOOKUP(A58,Grundliste!$C57:$L224,4) -> 0 | C58: =VLOOKUP(A58,Grundliste!$C57:$L224,5) -> Moers | D58: =VLOOKUP(A58,Grundliste!$C57:$L224,6) -> 0 | E58: =VLOOKUP(A58,Grundliste!$C57:$L224,7) -> 0 | F58: =VLOOKUP(A58,Grundliste!$C57:$L224,8) -> 0 | G58: =VLOOKUP(A58,Grundliste!$C57:$L224,10) -> 0
A59: =Grundliste!C59 -> 590 | B59: =VLOOKUP(A59,Grundliste!$C58:$L225,4) -> 0 | C59: =VLOOKUP(A59,Grundliste!$C58:$L225,5) -> Lingen (Ems) | D59: =VLOOKUP(A59,Grundliste!$C58:$L225,6) -> 0 | E59: =VLOOKUP(A59,Grundliste!$C58:$L225,7) -> 0 | F59: =VLOOKUP(A59,Grundliste!$C58:$L225,8) -> 0 | G59: =VLOOKUP(A59,Grundliste!$C58:$L225,10) -> 0
A60: =Grundliste!C60 -> 600 | C60: =VLOOKUP(A60,Grundliste!$C59:$L226,5) -> Waldbröl-Schladern | D60: =VLOOKUP(A60,Grundliste!$C59:$L226,6) -> NRW | E60: =VLOOKUP(A60,Grundliste!$C59:$L226,7) -> B 256 | G60: =VLOOKUP(A60,Grundliste!$C59:$L226,10) -> x | H60: =Grundliste!E60 -> Wochenend und Feiertagssperrung | I60: =CONCATENATE(A60,",",B60,",",C60,",",D60,",",E60,",",F60) -> 600, ,Waldbröl-Schladern,NRW,B 256, | J60: =CONCATENATE("Streckensperrung: ",D60," ",C60," ",F60," ",E60," ",B60," ",TEXT(A60,"""#""00000")) -> Streckensperrung: NRW Waldbröl-Schladern B 256 #00600 | K60: =CONCATENATE("Streckensperrung: ",D60," ",C60," ",F60," ",E60," ",B60," - ",H60) -> Streckensperrung: NRW Waldbröl-Schladern B 256 - Wochenend und Feiertagssperrung | L60: =CONCATENATE("Hier findest Du die Informationen zur Streckensperrung: ",D60," ",C60," ",F60," ",E60," ",B60," - ",H60) -> Hier findest Du die Informationen zur Streckensperrung: NRW Waldbröl-Schladern B 256 - Wochenend und Feiertagssperrung | M60: =CONCATENATE(TEXT(A60,"""ID""00000"),"-",D60,"-",C60,"-",F60,"-",E60,"-",B60) -> ID00600-NRW-Waldbröl-Schladern--B 256- | N60: =SUBSTITUTE(SUBSTITUTE(SUBSTITUTE(SUBSTITUTE(SUBSTITUTE(SUBSTITUTE(LOWER(TRIM(M60)),"ä","ae"),"ö","oe"),"ü","ue"),"ß","ss"),"--","-")," ","_") -> id00600-nrw-waldbroel-schladern-b_256-
A61: =Grundliste!C61 -> 610 | B61: =VLOOKUP(A61,Grundliste!$C60:$L227,4) -> 0 | C61: =VLOOKUP(A61,Grundliste!$C60:$L227,5) -> Lindlar | D61: =VLOOKUP(A61,Grundliste!$C60:$L227,6) -> 0 | E61: =VLOOKUP(A61,Grundliste!$C60:$L227,7) -> 0 | F61: =VLOOKUP(A61,Grundliste!$C60:$L227,8) -> 0 | G61: =VLOOKUP(A61,Grundliste!$C60:$L227,10) -> 0
A62: =Grundliste!C62 -> 620 | B62: =VLOOKUP(A62,Grundliste!$C61:$L228,4) -> 0 | C62: =VLOOKUP(A62,Grundliste!$C61:$L228,5) -> Aachen | D62: =VLOOKUP(A62,Grundliste!$C61:$L228,6) -> 0 | E62: =VLOOKUP(A62,Grundliste!$C61:$L228,7) -> 0 | F62: =VLOOKUP(A62,Grundliste!$C61:$L228,8) -> 0 | G62: =VLOOKUP(A62,Grundliste!$C61:$L228,10) -> 0
A63: =Grundliste!C63 -> 630 | C63: =VLOOKUP(A63,Grundliste!$C62:$L229,5) -> Simmerath | D63: =VLOOKUP(A63,Grundliste!$C62:$L229,6) -> NRW | E63: =VLOOKUP(A63,Grundliste!$C62:$L229,7) -> L 128 | G63: =VLOOKUP(A63,Grundliste!$C62:$L229,10) -> x | H63: =Grundliste!E63 -> Wochenend und Feiertagssperrung | I63: =CONCATENATE(A63,",",B63,",",C63,",",D63,",",E63,",",F63) -> 630, ,Simmerath,NRW,L 128, | J63: =CONCATENATE("Streckensperrung: ",D63," ",C63," ",F63," ",E63," ",B63," ",TEXT(A63,"""#""00000")) -> Streckensperrung: NRW Simmerath L 128 #00630 | K63: =CONCATENATE("Streckensperrung: ",D63," ",C63," ",F63," ",E63," ",B63," - ",H63) -> Streckensperrung: NRW Simmerath L 128 - Wochenend und Feiertagssperrung | L63: =CONCATENATE("Hier findest Du die Informationen zur Streckensperrung: ",D63," ",C63," ",F63," ",E63," ",B63," - ",H63) -> Hier findest Du die Informationen zur Streckensperrung: NRW Simmerath L 128 - Wochenend und Feiertagssperrung | M63: =CONCATENATE(TEXT(A63,"""ID""00000"),"-",D63,"-",C63,"-",F63,"-",E63,"-",B63) -> ID00630-NRW-Simmerath--L 128- | N63: =SUBSTITUTE(SUBSTITUTE(SUBSTITUTE(SUBSTITUTE(SUBSTITUTE(SUBSTITUTE(LOWER(TRIM(M63)),"ä","ae"),"ö","oe"),"ü","ue"),"ß","ss"),"--","-")," ","_") -> id00630-nrw-simmerath-l_128-
A64: =Grundliste!C64 -> 640 | B64: =VLOOKUP(A64,Grundliste!$C63:$L230,4) -> 0 | C64: =VLOOKUP(A64,Grundliste!$C63:$L230,5) -> Simmerath | D64: =VLOOKUP(A64,Grundliste!$C63:$L230,6) -> 0 | E64: =VLOOKUP(A64,Grundliste!$C63:$L230,7) -> 0 | F64: =VLOOKUP(A64,Grundliste!$C63:$L230,8) -> 0 | G64: =VLOOKUP(A64,Grundliste!$C63:$L230,10) -> 0
A65: =Grundliste!C65 -> 650 | B65: =VLOOKUP(A65,Grundliste!$C64:$L231,4) -> 0 | C65: =VLOOKUP(A65,Grundliste!$C64:$L231,5) -> Heimbach/Rursee | D65: =VLOOKUP(A65,Grundliste!$C64:$L231,6) -> 0 | E65: =VLOOKUP(A65,Grundliste!$C64:$L231,7) -> 0 | F65: =VLOOKUP(A65,Grundliste!$C64:$L231,8) -> 0 | G65: =VLOOKUP(A65,Grundliste!$C64:$L231,10) -> 0
A66: =Grundliste!C66 -> 660 | B66: =VLOOKUP(A66,Grundliste!$C65:$L232,4) -> 0 | C66: =VLOOKUP(A66,Grundliste!$C65:$L232,5) -> Bonn | D66: =VLOOKUP(A66,Grundliste!$C65:$L232,6) -> 0 | E66: =VLOOKUP(A66,Grundliste!$C65:$L232,7) -> 0 | F66: =VLOOKUP(A66,Grundliste!$C65:$L232,8) -> 0 | G66: =VLOOKUP(A66,Grundliste!$C65:$L232,10) -> 0
A67: =Grundliste!C67 -> 670 | B67: =VLOOKUP(A67,Grundliste!$C66:$L233,4) -> 0 | C67: =VLOOKUP(A67,Grundliste!$C66:$L233,5) -> Bad Neuenahr-Ahrweiler | D67: =VLOOKUP(A67,Grundliste!$C66:$L233,6) -> 0 | E67: =VLOOKUP(A67,Grundliste!$C66:$L233,7) -> 0 | F67: =VLOOKUP(A67,Grundliste!$C66:$L233,8) -> 0 | G67: =VLOOKUP(A67,Grundliste!$C66:$L233,10) -> 0
A68: =Grundliste!C68 -> 680 | B68: =VLOOKUP(A68,Grundliste!$C67:$L234,4) -> 0 | C68: =VLOOKUP(A68,Grundliste!$C67:$L234,5) -> Bad Münstereifel | D68: =VLOOKUP(A68,Grundliste!$C67:$L234,6) -> 0 | E68: =VLOOKUP(A68,Grundliste!$C67:$L234,7) -> 0 | F68: =VLOOKUP(A68,Grundliste!$C67:$L234,8) -> 0 | G68: =VLOOKUP(A68,Grundliste!$C67:$L234,10) -> 0
A69: =Grundliste!C69 -> 690 | B69: =VLOOKUP(A69,Grundliste!$C68:$L235,4) -> 0 | C69: =VLOOKUP(A69,Grundliste!$C68:$L235,5) -> Eicherscheid | D69: =VLOOKUP(A69,Grundliste!$C68:$L235,6) -> 0 | E69: =VLOOKUP(A69,Grundliste!$C68:$L235,7) -> L 165 | F69: =VLOOKUP(A69,Grundliste!$C68:$L235,8) -> 0 | G69: =VLOOKUP(A69,Grundliste!$C68:$L235,10) -> 0
A70: =Grundliste!C70 -> 700 | B70: =VLOOKUP(A70,Grundliste!$C69:$L236,4) -> 0 | C70: =VLOOKUP(A70,Grundliste!$C69:$L236,5) -> Daun | D70: =VLOOKUP(A70,Grundliste!$C69:$L236,6) -> 0 | E70: =VLOOKUP(A70,Grundliste!$C69:$L236,7) -> 0 | F70: =VLOOKUP(A70,Grundliste!$C69:$L236,8) -> 0 | G70: =VLOOKUP(A70,Grundliste!$C69:$L236,10) -> 0
A71: =Grundliste!C71 -> 710 | B71: =VLOOKUP(A71,Grundliste!$C70:$L237,4) -> 0 | C71: =VLOOKUP(A71,Grundliste!$C70:$L237,5) -> Bad Kreuznach | D71: =VLOOKUP(A71,Grundliste!$C70:$L237,6) -> 0 | E71: =VLOOKUP(A71,Grundliste!$C70:$L237,7) -> 0 | F71: =VLOOKUP(A71,Grundliste!$C70:$L237,8) -> 0 | G71: =VLOOKUP(A71,Grundliste!$C70:$L237,10) -> 0
A72: 715 | C72: =VLOOKUP(A72,Grundliste!$C71:$L238,5) -> Sprendlingen | D72: =VLOOKUP(A72,Grundliste!$C71:$L238,6) -> Rheinland-Pfalz | E72: =VLOOKUP(A72,Grundliste!$C71:$L238,7) -> L415 | F72: =VLOOKUP(A72,Grundliste!$C71:$L238,8) -> Sprendlinger Strasse | G72: =VLOOKUP(A72,Grundliste!$C71:$L238,10) -> x | H72: =Grundliste!E72 -> Vollsperrung aufgehoben | I72: =CONCATENATE(A72,",",B72,",",C72,",",D72,",",E72,",",F72) -> 715,,Sprendlingen,Rheinland-Pfalz,L415,Sprendlinger Strasse | J72: =CONCATENATE("Streckensperrung: ",D72," ",C72," ",F72," ",E72," ",B72," ",TEXT(A72,"""#""00000")) -> Streckensperrung: Rheinland-Pfalz Sprendlingen Sprendlinger Strasse L415 #00715 | K72: =CONCATENATE("Streckensperrung: ",D72," ",C72," ",F72," ",E72," ",B72," - ",H72) -> Streckensperrung: Rheinland-Pfalz Sprendlingen Sprendlinger Strasse L415 - Vollsperrung aufgehoben | L72: =CONCATENATE("Hier findest Du die Informationen zur Streckensperrung: ",D72," ",C72," ",F72," ",E72," ",B72," - ",H72) -> Hier findest Du die Informationen zur Streckensperrung: Rheinland-Pfalz Sprendlingen Sprendlinger Strasse L415 - Vollsperrung aufgehoben | M72: =CONCATENATE(TEXT(A72,"""ID""00000"),"-",D72,"-",C72,"-",F72,"-",E72,"-",B72) -> ID00715-Rheinland-Pfalz-Sprendlingen-Sprendlinger Strasse-L415- | N72: =SUBSTITUTE(SUBSTITUTE(SUBSTITUTE(SUBSTITUTE(SUBSTITUTE(SUBSTITUTE(LOWER(TRIM(M72)),"ä","ae"),"ö","oe"),"ü","ue"),"ß","ss"),"--","-")," ","_") -> id00715-rheinland-pfalz-sprendlingen-sprendlinger_strasse-l415-
A73: =Grundliste!C73 -> 720 | B73: =VLOOKUP(A73,Grundliste!$C71:$L238,4) -> 0 | C73: =VLOOKUP(A73,Grundliste!$C71:$L238,5) -> Höhr-Grenzhausen | D73: =VLOOKUP(A73,Grundliste!$C71:$L238,6) -> 0 | E73: =VLOOKUP(A73,Grundliste!$C71:$L238,7) -> 0 | F73: =VLOOKUP(A73,Grundliste!$C71:$L238,8) -> 0 | G73: =VLOOKUP(A73,Grundliste!$C71:$L238,10) -> 0
A74: =Grundliste!C74 -> 730 | B74: =VLOOKUP(A74,Grundliste!$C73:$L239,4) -> 0 | C74: =VLOOKUP(A74,Grundliste!$C73:$L239,5) -> Dieblich / Kondertal | D74: =VLOOKUP(A74,Grundliste!$C73:$L239,6) -> 0 | E74: =VLOOKUP(A74,Grundliste!$C73:$L239,7) -> 0 | F74: =VLOOKUP(A74,Grundliste!$C73:$L239,8) -> 0 | G74: =VLOOKUP(A74,Grundliste!$C73:$L239,10) -> 0
A75: =Grundliste!C75 -> 740 | B75: =VLOOKUP(A75,Grundliste!$C74:$L240,4) -> 0 | C75: =VLOOKUP(A75,Grundliste!$C74:$L240,5) -> 0 | D75: =VLOOKUP(A75,Grundliste!$C74:$L240,6) -> 0 | E75: =VLOOKUP(A75,Grundliste!$C74:$L240,7) -> 0 | F75: =VLOOKUP(A75,Grundliste!$C74:$L240,8) -> 0 | G75: =VLOOKUP(A75,Grundliste!$C74:$L240,10) -> 0
A76: =Grundliste!C76 -> 750 | B76: =VLOOKUP(A76,Grundliste!$C75:$L241,4) -> 0 | C76: =VLOOKUP(A76,Grundliste!$C75:$L241,5) -> Siegen | D76: =VLOOKUP(A76,Grundliste!$C75:$L241,6) -> 0 | E76: =VLOOKUP(A76,Grundliste!$C75:$L241,7) -> 0 | F76: =VLOOKUP(A76,Grundliste!$C75:$L241,8) -> 0 | G76: =VLOOKUP(A76,Grundliste!$C75:$L241,10) -> 0
A77: =Grundliste!C77 -> 760 | B77: =VLOOKUP(A77,Grundliste!$C76:$L242,4) -> 0 | C77: =VLOOKUP(A77,Grundliste!$C76:$L242,5) -> Bad Laasphe | D77: =VLOOKUP(A77,Grundliste!$C76:$L242,6) -> 0 | E77: =VLOOKUP(A77,Grundliste!$C76:$L242,7) -> 0 | F77: =VLOOKUP(A77,Grundliste!$C76:$L242,8) -> 0 | G77: =VLOOKUP(A77,Grundliste!$C76:$L242,10) -> 0
A78: =Grundliste!C78 -> 770 | B78: =VLOOKUP(A78,Grundliste!$C77:$L243,4) -> 0 | C78: =VLOOKUP(A78,Grundliste!$C77:$L243,5) -> Attendorn | D78: =VLOOKUP(A78,Grundliste!$C77:$L243,6) -> 0 | E78: =VLOOKUP(A78,Grundliste!$C77:$L243,7) -> 0 | F78: =VLOOKUP(A78,Grundliste!$C77:$L243,8) -> 0 | G78: =VLOOKUP(A78,Grundliste!$C77:$L243,10) -> 0
A79: =Grundliste!C79 -> 780 | C79: =VLOOKUP(A79,Grundliste!$C78:$L244,5) -> Schwerte | D79: =VLOOKUP(A79,Grundliste!$C78:$L244,6) -> NRW | E79: =VLOOKUP(A79,Grundliste!$C78:$L244,7) -> B 236 | G79: =VLOOKUP(A79,Grundliste!$C78:$L244,10) -> x | H79: =Grundliste!E79 -> Wochenend und Feiertagssperrung | I79: =CONCATENATE(A79,",",B79,",",C79,",",D79,",",E79,",",F79) -> 780, ,Schwerte,NRW,B 236, | J79: =CONCATENATE("Streckensperrung: ",D79," ",C79," ",F79," ",E79," ",B79," ",TEXT(A79,"""#""00000")) -> Streckensperrung: NRW Schwerte B 236 #00780 | K79: =CONCATENATE("Streckensperrung: ",D79," ",C79," ",F79," ",E79," ",B79," - ",H79) -> Streckensperrung: NRW Schwerte B 236 - Wochenend und Feiertagssperrung | L79: =CONCATENATE("Hier findest Du die Informationen zur Streckensperrung: ",D79," ",C79," ",F79," ",E79," ",B79," - ",H79) -> Hier findest Du die Informationen zur Streckensperrung: NRW Schwerte B 236 - Wochenend und Feiertagssperrung | M79: =CONCATENATE(TEXT(A79,"""ID""00000"),"-",D79,"-",C79,"-",F79,"-",E79,"-",B79) -> ID00780-NRW-Schwerte--B 236- | N79: =SUBSTITUTE(SUBSTITUTE(SUBSTITUTE(SUBSTITUTE(SUBSTITUTE(SUBSTITUTE(LOWER(TRIM(M79)),"ä","ae"),"ö","oe"),"ü","ue"),"ß","ss"),"--","-")," ","_") -> id00780-nrw-schwerte-b_236-
A80: =Grundliste!C80 -> 790 | C80: =VLOOKUP(A80,Grundliste!$C79:$L245,5) -> Gevelsberg | D80: =VLOOKUP(A80,Grundliste!$C79:$L245,6) -> NRW | E80: =VLOOKUP(A80,Grundliste!$C79:$L245,7) -> B7 | G80: =VLOOKUP(A80,Grundliste!$C79:$L245,10) -> x | H80: =Grundliste!E80 -> Vollsperrung | I80: =CONCATENATE(A80,",",B80,",",C80,",",D80,",",E80,",",F80) -> 790, ,Gevelsberg,NRW,B7 , | J80: =CONCATENATE("Streckensperrung: ",D80," ",C80," ",F80," ",E80," ",B80," ",TEXT(A80,"""#""00000")) -> Streckensperrung: NRW Gevelsberg B7 #00790 | K80: =CONCATENATE("Streckensperrung: ",D80," ",C80," ",F80," ",E80," ",B80," - ",H80) -> Streckensperrung: NRW Gevelsberg B7 - Vollsperrung | L80: =CONCATENATE("Hier findest Du die Informationen zur Streckensperrung: ",D80," ",C80," ",F80," ",E80," ",B80," - ",H80) -> Hier findest Du die Informationen zur Streckensperrung: NRW Gevelsberg B7 - Vollsperrung | M80: =CONCATENATE(TEXT(A80,"""ID""00000"),"-",D80,"-",C80,"-",F80,"-",E80,"-",B80) -> ID00790-NRW-Gevelsberg--B7 - | N80: =SUBSTITUTE(SUBSTITUTE(SUBSTITUTE(SUBSTITUTE(SUBSTITUTE(SUBSTITUTE(LOWER(TRIM(M80)),"ä","ae"),"ö","oe"),"ü","ue"),"ß","ss"),"--","-")," ","_") -> id00790-nrw-gevelsberg-b7_-
A81: =Grundliste!C81 -> 800 | C81: =VLOOKUP(A81,Grundliste!$C80:$L246,5) -> Hagen/Volemtal | D81: =VLOOKUP(A81,Grundliste!$C80:$L246,6) -> NRW | E81: =VLOOKUP(A81,Grundliste!$C80:$L246,7) -> L 701 | F81: =VLOOKUP(A81,Grundliste!$C80:$L246,8) -> Osemundstraße Prioreier Straße | G81: =VLOOKUP(A81,Grundliste!$C80:$L246,10) -> x | H81: =Grundliste!E81 -> Vollsperrung | I81: =CONCATENATE(A81,",",B81,",",C81,",",D81,",",E81,",",F81) -> 800, ,Hagen/Volemtal,NRW,L 701,Osemundstraße Prioreier Straße | J81: =CONCATENATE("Streckensperrung: ",D81," ",C81," ",F81," ",E81," ",B81," ",TEXT(A81,"""#""00000")) -> Streckensperrung: NRW Hagen/Volemtal Osemundstraße Prioreier Straße L 701 #00800 | K81: =CONCATENATE("Streckensperrung: ",D81," ",C81," ",F81," ",E81," ",B81," - ",H81) -> Streckensperrung: NRW Hagen/Volemtal Osemundstraße Prioreier Straße L 701 - Vollsperrung | L81: =CONCATENATE("Hier findest Du die Informationen zur Streckensperrung: ",D81," ",C81," ",F81," ",E81," ",B81," - ",H81) -> Hier findest Du die Informationen zur Streckensperrung: NRW Hagen/Volemtal Osemundstraße Prioreier Straße L 701 - Vollsperrung | M81: =CONCATENATE(TEXT(A81,"""ID""00000"),"-",D81,"-",C81,"-",F81,"-",E81,"-",B81) -> ID00800-NRW-Hagen/Volemtal-Osemundstraße Prioreier Straße-L 701- | N81: =SUBSTITUTE(SUBSTITUTE(SUBSTITUTE(SUBSTITUTE(SUBSTITUTE(SUBSTITUTE(LOWER(TRIM(M81)),"ä","ae"),"ö","oe"),"ü","ue"),"ß","ss"),"--","-")," ","_") -> id00800-nrw-hagen/volemtal-osemundstrasse prioreier_strasse-l_701-
A82: =Grundliste!C82 -> 810 | B82: =VLOOKUP(A82,Grundliste!$C81:$L247,4) -> 0 | C82: =VLOOKUP(A82,Grundliste!$C81:$L247,5) -> Letmate | D82: =VLOOKUP(A82,Grundliste!$C81:$L247,6) -> 0 | E82: =VLOOKUP(A82,Grundliste!$C81:$L247,7) -> 0 | F82: =VLOOKUP(A82,Grundliste!$C81:$L247,8) -> 0 | G82: =VLOOKUP(A82,Grundliste!$C81:$L247,10) -> 0
A83: =Grundliste!C83 -> 820 | B83: =VLOOKUP(A83,Grundliste!$C82:$L248,4) -> Nordhelle | C83: =VLOOKUP(A83,Grundliste!$C82:$L248,5) -> Herscheid | D83: =VLOOKUP(A83,Grundliste!$C82:$L248,6) -> NRW | E83: =VLOOKUP(A83,Grundliste!$C82:$L248,7) -> L 707 | F83: =VLOOKUP(A83,Grundliste!$C82:$L248,8) -> Ebbestrasse | G83: =VLOOKUP(A83,Grundliste!$C82:$L248,10) -> x | H83: =Grundliste!E83 -> Vollsperrung aufgehoben | I83: =CONCATENATE(A83,",",B83,",",C83,",",D83,",",E83,",",F83) -> 820,Nordhelle,Herscheid,NRW,L 707,Ebbestrasse | J83: =CONCATENATE("Streckensperrung: ",D83," ",C83," ",F83," ",E83," ",B83," ",TEXT(A83,"""#""00000")) -> Streckensperrung: NRW Herscheid Ebbestrasse L 707 Nordhelle #00820 | K83: =CONCATENATE("Streckensperrung: ",D83," ",C83," ",F83," ",E83," ",B83," - ",H83) -> Streckensperrung: NRW Herscheid Ebbestrasse L 707 Nordhelle - Vollsperrung aufgehoben | L83: =CONCATENATE("Hier findest Du die Informationen zur Streckensperrung: ",D83," ",C83," ",F83," ",E83," ",B83," - ",H83) -> Hier findest Du die Informationen zur Streckensperrung: NRW Herscheid Ebbestrasse L 707 Nordhelle - Vollsperrung aufgehoben | M83: =CONCATENATE(TEXT(A83,"""ID""00000"),"-",D83,"-",C83,"-",F83,"-",E83,"-",B83) -> ID00820-NRW-Herscheid-Ebbestrasse-L 707-Nordhelle | N83: =SUBSTITUTE(SUBSTITUTE(SUBSTITUTE(SUBSTITUTE(SUBSTITUTE(SUBSTITUTE(LOWER(TRIM(M83)),"ä","ae"),"ö","oe"),"ü","ue"),"ß","ss"),"--","-")," ","_") -> id00820-nrw-herscheid-ebbestrasse-l_707-nordhelle
A84: =Grundliste!C84 -> 830 | B84: =VLOOKUP(A84,Grundliste!$C83:$L249,4) -> 0 | C84: =VLOOKUP(A84,Grundliste!$C83:$L249,5) -> Werne/Lippe | D84: =VLOOKUP(A84,Grundliste!$C83:$L249,6) -> 0 | E84: =VLOOKUP(A84,Grundliste!$C83:$L249,7) -> 0 | F84: =VLOOKUP(A84,Grundliste!$C83:$L249,8) -> 0 | G84: =VLOOKUP(A84,Grundliste!$C83:$L249,10) -> 0
A85: =Grundliste!C85 -> 840 | B85: =VLOOKUP(A85,Grundliste!$C84:$L250,4) -> 0 | C85: =VLOOKUP(A85,Grundliste!$C84:$L250,5) -> Bad Sassendorf | D85: =VLOOKUP(A85,Grundliste!$C84:$L250,6) -> 0 | E85: =VLOOKUP(A85,Grundliste!$C84:$L250,7) -> 0 | F85: =VLOOKUP(A85,Grundliste!$C84:$L250,8) -> 0 | G85: =VLOOKUP(A85,Grundliste!$C84:$L250,10) -> 0
A86: =Grundliste!C86 -> 850 | B86: =VLOOKUP(A86,Grundliste!$C85:$L251,4) -> Ochsenkopf | C86: =VLOOKUP(A86,Grundliste!$C85:$L251,5) -> Arnsberg | D86: =VLOOKUP(A86,Grundliste!$C85:$L251,6) -> NRW | E86: =VLOOKUP(A86,Grundliste!$C85:$L251,7) -> L 685 | F86: =VLOOKUP(A86,Grundliste!$C85:$L251,8) -> Sunderner Str. In der Flamke | G86: =VLOOKUP(A86,Grundliste!$C85:$L251,10) -> x | H86: =Grundliste!E86 -> Wochenend und Feiertagssperrung | I86: =CONCATENATE(A86,",",B86,",",C86,",",D86,",",E86,",",F86) -> 850,Ochsenkopf,Arnsberg,NRW,L 685,Sunderner Str. In der Flamke | J86: =CONCATENATE("Streckensperrung: ",D86," ",C86," ",F86," ",E86," ",B86," ",TEXT(A86,"""#""00000")) -> Streckensperrung: NRW Arnsberg Sunderner Str. In der Flamke L 685 Ochsenkopf #00850 | K86: =CONCATENATE("Streckensperrung: ",D86," ",C86," ",F86," ",E86," ",B86," - ",H86) -> Streckensperrung: NRW Arnsberg Sunderner Str. In der Flamke L 685 Ochsenkopf - Wochenend und Feiertagssperrung | L86: =CONCATENATE("Hier findest Du die Informationen zur Streckensperrung: ",D86," ",C86," ",F86," ",E86," ",B86," - ",H86) -> Hier findest Du die Informationen zur Streckensperrung: NRW Arnsberg Sunderner Str. In der Flamke L 685 Ochsenkopf - Wochenend und Feiertagssperrung | M86: =CONCATENATE(TEXT(A86,"""ID""00000"),"-",D86,"-",C86,"-",F86,"-",E86,"-",B86) -> ID00850-NRW-Arnsberg-Sunderner Str. In der Flamke-L 685-Ochsenkopf | N86: =SUBSTITUTE(SUBSTITUTE(SUBSTITUTE(SUBSTITUTE(SUBSTITUTE(SUBSTITUTE(LOWER(TRIM(M86)),"ä","ae"),"ö","oe"),"ü","ue"),"ß","ss"),"--","-")," ","_") -> id00850-nrw-arnsberg-sunderner_str. in_der_flamke-l_685-ochsenkopf
A87: =Grundliste!C87 -> 860 | B87: =VLOOKUP(A87,Grundliste!$C86:$L252,4) -> 0 | C87: =VLOOKUP(A87,Grundliste!$C86:$L252,5) -> Sundern | D87: =VLOOKUP(A87,Grundliste!$C86:$L252,6) -> 0 | E87: =VLOOKUP(A87,Grundliste!$C86:$L252,7) -> 0 | F87: =VLOOKUP(A87,Grundliste!$C86:$L252,8) -> 0 | G87: =VLOOKUP(A87,Grundliste!$C86:$L252,10) -> 0 | H87: =Grundliste!E87 -> Wochenend und Feiertagssperrung | I87: =CONCATENATE(A87,",",B87,",",C87,",",D87,",",E87,",",F87) -> 860,0,Sundern,0,0,0 | J87: =CONCATENATE("Streckensperrung: ",D87," ",C87," ",F87," ",E87," ",B87," ",TEXT(A87,"""#""00000")) -> Streckensperrung: 0 Sundern 0 0 0 #00860 | K87: =CONCATENATE("Streckensperrung: ",D87," ",C87," ",F87," ",E87," ",B87," - ",H87) -> Streckensperrung: 0 Sundern 0 0 0 - Wochenend und Feiertagssperrung | L87: =CONCATENATE("Hier findest Du die Informationen zur Streckensperrung: ",D87," ",C87," ",F87," ",E87," ",B87," - ",H87) -> Hier findest Du die Informationen zur Streckensperrung: 0 Sundern 0 0 0 - Wochenend und Feiertagssperrung | M87: =CONCATENATE(TEXT(A87,"""ID""00000"),"-",D87,"-",C87,"-",F87,"-",E87,"-",B87) -> ID00860-0-Sundern-0-0-0 | N87: =SUBSTITUTE(SUBSTITUTE(SUBSTITUTE(SUBSTITUTE(SUBSTITUTE(SUBSTITUTE(LOWER(TRIM(M87)),"ä","ae"),"ö","oe"),"ü","ue"),"ß","ss"),"--","-")," ","_") -> id00860-0-sundern-0-0-0
A88: =Grundliste!C88 -> 870 | B88: =VLOOKUP(A88,Grundliste!$C87:$L253,4) -> 0 | C88: =VLOOKUP(A88,Grundliste!$C87:$L253,5) -> Meschede | D88: =VLOOKUP(A88,Grundliste!$C87:$L253,6) -> 0 | E88: =VLOOKUP(A88,Grundliste!$C87:$L253,7) -> 0 | F88: =VLOOKUP(A88,Grundliste!$C87:$L253,8) -> 0 | G88: =VLOOKUP(A88,Grundliste!$C87:$L253,10) -> 0 | H88: =Grundliste!E88 -> Wochenend und Feiertagssperrung | I88: =CONCATENATE(A88,",",B88,",",C88,",",D88,",",E88,",",F88) -> 870,0,Meschede,0,0,0 | J88: =CONCATENATE("Streckensperrung: ",D88," ",C88," ",F88," ",E88," ",B88," ",TEXT(A88,"""#""00000")) -> Streckensperrung: 0 Meschede 0 0 0 #00870 | K88: =CONCATENATE("Streckensperrung: ",D88," ",C88," ",F88," ",E88," ",B88," - ",H88) -> Streckensperrung: 0 Meschede 0 0 0 - Wochenend und Feiertagssperrung | L88: =CONCATENATE("Hier findest Du die Informationen zur Streckensperrung: ",D88," ",C88," ",F88," ",E88," ",B88," - ",H88) -> Hier findest Du die Informationen zur Streckensperrung: 0 Meschede 0 0 0 - Wochenend und Feiertagssperrung | M88: =CONCATENATE(TEXT(A88,"""ID""00000"),"-",D88,"-",C88,"-",F88,"-",E88,"-",B88) -> ID00870-0-Meschede-0-0-0 | N88: =SUBSTITUTE(SUBSTITUTE(SUBSTITUTE(SUBSTITUTE(SUBSTITUTE(SUBSTITUTE(LOWER(TRIM(M88)),"ä","ae"),"ö","oe"),"ü","ue"),"ß","ss"),"--","-")," ","_") -> id00870-0-meschede-0-0-0
A89: =Grundliste!C89 -> 880 | B89: =VLOOKUP(A89,Grundliste!$C88:$L254,4) -> 0 | C89: =VLOOKUP(A89,Grundliste!$C88:$L254,5) -> Bad Nauheim | D89: =VLOOKUP(A89,Grundliste!$C88:$L254,6) -> 0 | E89: =VLOOKUP(A89,Grundliste!$C88:$L254,7) -> 0 | F89: =VLOOKUP(A89,Grundliste!$C88:$L254,8) -> 0 | G89: =VLOOKUP(A89,Grundliste!$C88:$L254,10) -> 0 | H89: =Grundliste!E89 -> Nachtfahrverbot | I89: =CONCATENATE(A89,",",B89,",",C89,",",D89,",",E89,",",F89) -> 880,0,Bad Nauheim,0,0,0 | J89: =CONCATENATE("Streckensperrung: ",D89," ",C89," ",F89," ",E89," ",B89," ",TEXT(A89,"""#""00000")) -> Streckensperrung: 0 Bad Nauheim 0 0 0 #00880 | K89: =CONCATENATE("Streckensperrung: ",D89," ",C89," ",F89," ",E89," ",B89," - ",H89) -> Streckensperrung: 0 Bad Nauheim 0 0 0 - Nachtfahrverbot | L89: =CONCATENATE("Hier findest Du die Informationen zur Streckensperrung: ",D89," ",C89," ",F89," ",E89," ",B89," - ",H89) -> Hier findest Du die Informationen zur Streckensperrung: 0 Bad Nauheim 0 0 0 - Nachtfahrverbot | M89: =CONCATENATE(TEXT(A89,"""ID""00000"),"-",D89,"-",C89,"-",F89,"-",E89,"-",B89) -> ID00880-0-Bad Nauheim-0-0-0 | N89: =SUBSTITUTE(SUBSTITUTE(SUBSTITUTE(SUBSTITUTE(SUBSTITUTE(SUBSTITUTE(LOWER(TRIM(M89)),"ä","ae"),"ö","oe"),"ü","ue"),"ß","ss"),"--","-")," ","_") -> id00880-0-bad_nauheim-0-0-0
A90: =Grundliste!C90 -> 890 | B90: =VLOOKUP(A90,Grundliste!$C89:$L255,4) -> 0 | C90: =VLOOKUP(A90,Grundliste!$C89:$L255,5) -> 0 | D90: =VLOOKUP(A90,Grundliste!$C89:$L255,6) -> 0 | E90: =VLOOKUP(A90,Grundliste!$C89:$L255,7) -> 0 | F90: =VLOOKUP(A90,Grundliste!$C89:$L255,8) -> 0 | G90: =VLOOKUP(A90,Grundliste!$C89:$L255,10) -> 0 | H90: =Grundliste!E90 -> Vollsperrung | I90: =CONCATENATE(A90,",",B90,",",C90,",",D90,",",E90,",",F90) -> 890,0,0,0,0,0 | J90: =CONCATENATE("Streckensperrung: ",D90," ",C90," ",F90," ",E90," ",B90," ",TEXT(A90,"""#""00000")) -> Streckensperrung: 0 0 0 0 0 #00890 | K90: =CONCATENATE("Streckensperrung: ",D90," ",C90," ",F90," ",E90," ",B90," - ",H90) -> Streckensperrung: 0 0 0 0 0 - Vollsperrung | L90: =CONCATENATE("Hier findest Du die Informationen zur Streckensperrung: ",D90," ",C90," ",F90," ",E90," ",B90," - ",H90) -> Hier findest Du die Informationen zur Streckensperrung: 0 0 0 0 0 - Vollsperrung | M90: =CONCATENATE(TEXT(A90,"""ID""00000"),"-",D90,"-",C90,"-",F90,"-",E90,"-",B90) -> ID00890-0-0-0-0-0 | N90: =SUBSTITUTE(SUBSTITUTE(SUBSTITUTE(SUBSTITUTE(SUBSTITUTE(SUBSTITUTE(LOWER(TRIM(M90)),"ä","ae"),"ö","oe"),"ü","ue"),"ß","ss"),"--","-")," ","_") -> id00890-0-0-0-0-0
A91: =Grundliste!C91 -> 900 | B91: =VLOOKUP(A91,Grundliste!$C90:$L256,4) -> 0 | C91: =VLOOKUP(A91,Grundliste!$C90:$L256,5) -> Gemeinde Schmitten | D91: =VLOOKUP(A91,Grundliste!$C90:$L256,6) -> 0 | E91: =VLOOKUP(A91,Grundliste!$C90:$L256,7) -> 0 | F91: =VLOOKUP(A91,Grundliste!$C90:$L256,8) -> 0 | G91: =VLOOKUP(A91,Grundliste!$C90:$L256,10) -> 0 | H91: =Grundliste!E91 -> Nachtfahrverbot | I91: =CONCATENATE(A91,",",B91,",",C91,",",D91,",",E91,",",F91) -> 900,0,Gemeinde Schmitten,0,0,0 | J91: =CONCATENATE("Streckensperrung: ",D91," ",C91," ",F91," ",E91," ",B91," ",TEXT(A91,"""#""00000")) -> Streckensperrung: 0 Gemeinde Schmitten 0 0 0 #00900 | K91: =CONCATENATE("Streckensperrung: ",D91," ",C91," ",F91," ",E91," ",B91," - ",H91) -> Streckensperrung: 0 Gemeinde Schmitten 0 0 0 - Nachtfahrverbot | L91: =CONCATENATE("Hier findest Du die Informationen zur Streckensperrung: ",D91," ",C91," ",F91," ",E91," ",B91," - ",H91) -> Hier findest Du die Informationen zur Streckensperrung: 0 Gemeinde Schmitten 0 0 0 - Nachtfahrverbot | M91: =CONCATENATE(TEXT(A91,"""ID""00000"),"-",D91,"-",C91,"-",F91,"-",E91,"-",B91) -> ID00900-0-Gemeinde Schmitten-0-0-0 | N91: =SUBSTITUTE(SUBSTITUTE(SUBSTITUTE(SUBSTITUTE(SUBSTITUTE(SUBSTITUTE(LOWER(TRIM(M91)),"ä","ae"),"ö","oe"),"ü","ue"),"ß","ss"),"--","-")," ","_") -> id00900-0-gemeinde_schmitten-0-0-0
A92: =Grundliste!C92 -> 902 | B92: =VLOOKUP(A92,Grundliste!$C91:$L257,4) -> Feldberggebiet | C92: =VLOOKUP(A92,Grundliste!$C91:$L257,5) -> Gemeinde Schmitten | D92: =VLOOKUP(A92,Grundliste!$C91:$L257,6) -> Hessen | E92: =VLOOKUP(A92,Grundliste!$C91:$L257,7) -> L3004, L3024, L3276 | F92: =VLOOKUP(A92,Grundliste!$C91:$L257,8) -> Feldberggebiet | G92: =VLOOKUP(A92,Grundliste!$C91:$L257,10) -> x | H92: =Grundliste!E92 -> Vollsperrung | I92: =CONCATENATE(A92,",",B92,",",C92,",",D92,",",E92,",",F92) -> 902,Feldberggebiet,Gemeinde Schmitten,Hessen,L3004, L3024, L3276,Feldberggebiet | J92: =CONCATENATE("Streckensperrung: ",D92," ",C92," ",F92," ",E92," ",B92," ",TEXT(A92,"""#""00000")) -> Streckensperrung: Hessen Gemeinde Schmitten Feldberggebiet L3004, L3024, L3276 Feldberggebiet #00902 | K92: =CONCATENATE("Streckensperrung: ",D92," ",C92," ",F92," ",E92," ",B92," - ",H92) -> Streckensperrung: Hessen Gemeinde Schmitten Feldberggebiet L3004, L3024, L3276 Feldberggebiet - Vollsperrung | L92: =CONCATENATE("Hier findest Du die Informationen zur Streckensperrung: ",D92," ",C92," ",F92," ",E92," ",B92," - ",H92) -> Hier findest Du die Informationen zur Streckensperrung: Hessen Gemeinde Schmitten Feldberggebiet L3004, L3024, L3276 Feldberggebiet - Vollsperrung | M92: =CONCATENATE(TEXT(A92,"""ID""00000"),"-",D92,"-",C92,"-",F92,"-",E92,"-",B92) -> ID00902-Hessen-Gemeinde Schmitten-Feldberggebiet-L3004, L3024, L3276-Feldberggebiet | N92: =SUBSTITUTE(SUBSTITUTE(SUBSTITUTE(SUBSTITUTE(SUBSTITUTE(SUBSTITUTE(LOWER(TRIM(M92)),"ä","ae"),"ö","oe"),"ü","ue"),"ß","ss"),"--","-")," ","_") -> id00902-hessen-gemeinde_schmitten-feldberggebiet-l3004,_l3024,_l3276-feldberggebiet
A93: =Grundliste!C93 -> 910 | B93: =VLOOKUP(A93,Grundliste!$C91:$L257,4) -> 0 | C93: =VLOOKUP(A93,Grundliste!$C91:$L257,5) -> Kefenrod/Hitzkirchen | D93: =VLOOKUP(A93,Grundliste!$C91:$L257,6) -> 0 | E93: =VLOOKUP(A93,Grundliste!$C91:$L257,7) -> 0 | F93: =VLOOKUP(A93,Grundliste!$C91:$L257,8) -> 0 | G93: =VLOOKUP(A93,Grundliste!$C91:$L257,10) -> 0 | H93: =Grundliste!E93 -> Vollsperrung | I93: =CONCATENATE(A93,",",B93,",",C93,",",D93,",",E93,",",F93) -> 910,0,Kefenrod/Hitzkirchen,0,0,0 | J93: =CONCATENATE("Streckensperrung: ",D93," ",C93," ",F93," ",E93," ",B93," ",TEXT(A93,"""#""00000")) -> Streckensperrung: 0 Kefenrod/Hitzkirchen 0 0 0 #00910 | K93: =CONCATENATE("Streckensperrung: ",D93," ",C93," ",F93," ",E93," ",B93," - ",H93) -> Streckensperrung: 0 Kefenrod/Hitzkirchen 0 0 0 - Vollsperrung | L93: =CONCATENATE("Hier findest Du die Informationen zur Streckensperrung: ",D93," ",C93," ",F93," ",E93," ",B93," - ",H93) -> Hier findest Du die Informationen zur Streckensperrung: 0 Kefenrod/Hitzkirchen 0 0 0 - Vollsperrung | M93: =CONCATENATE(TEXT(A93,"""ID""00000"),"-",D93,"-",C93,"-",F93,"-",E93,"-",B93) -> ID00910-0-Kefenrod/Hitzkirchen-0-0-0 | N93: =SUBSTITUTE(SUBSTITUTE(SUBSTITUTE(SUBSTITUTE(SUBSTITUTE(SUBSTITUTE(LOWER(TRIM(M93)),"ä","ae"),"ö","oe"),"ü","ue"),"ß","ss"),"--","-")," ","_") -> id00910-0-kefenrod/hitzkirchen-0-0-0
A94: =Grundliste!C94 -> 920 | B94: =VLOOKUP(A94,Grundliste!$C93:$L258,4) -> Kreidacher Höhe | C94: =VLOOKUP(A94,Grundliste!$C93:$L258,5) -> Zotzenbach | D94: =VLOOKUP(A94,Grundliste!$C93:$L258,6) -> Hessen | E94: =VLOOKUP(A94,Grundliste!$C93:$L258,7) -> L 3409 | F94: =VLOOKUP(A94,Grundliste!$C93:$L258,8) -> Stallenkandel | G94: =VLOOKUP(A94,Grundliste!$C93:$L258,10) -> x | H94: =Grundliste!E94 -> Wochenend und Feiertagssperrung | I94: =CONCATENATE(A94,",",B94,",",C94,",",D94,",",E94,",",F94) -> 920,Kreidacher Höhe,Zotzenbach,Hessen,L 3409,Stallenkandel | J94: =CONCATENATE("Streckensperrung: ",D94," ",C94," ",F94," ",E94," ",B94," ",TEXT(A94,"""#""00000")) -> Streckensperrung: Hessen Zotzenbach Stallenkandel L 3409 Kreidacher Höhe #00920 | K94: =CONCATENATE("Streckensperrung: ",D94," ",C94," ",F94," ",E94," ",B94," - ",H94) -> Streckensperrung: Hessen Zotzenbach Stallenkandel L 3409 Kreidacher Höhe - Wochenend und Feiertagssperrung | L94: =CONCATENATE("Hier findest Du die Informationen zur Streckensperrung: ",D94," ",C94," ",F94," ",E94," ",B94," - ",H94) -> Hier findest Du die Informationen zur Streckensperrung: Hessen Zotzenbach Stallenkandel L 3409 Kreidacher Höhe - Wochenend und Feiertagssperrung | M94: =CONCATENATE(TEXT(A94,"""ID""00000"),"-",D94,"-",C94,"-",F94,"-",E94,"-",B94) -> ID00920-Hessen-Zotzenbach-Stallenkandel-L 3409-Kreidacher Höhe | N94: =SUBSTITUTE(SUBSTITUTE(SUBSTITUTE(SUBSTITUTE(SUBSTITUTE(SUBSTITUTE(LOWER(TRIM(M94)),"ä","ae"),"ö","oe"),"ü","ue"),"ß","ss"),"--","-")," ","_") -> id00920-hessen-zotzenbach-stallenkandel-l_3409-kreidacher_hoehe
A95: =Grundliste!C95 -> 930 | B95: =VLOOKUP(A95,Grundliste!$C94:$L259,4) -> 0 | C95: =VLOOKUP(A95,Grundliste!$C94:$L259,5) -> Grasellenbach | D95: =VLOOKUP(A95,Grundliste!$C94:$L259,6) -> 0 | E95: =VLOOKUP(A95,Grundliste!$C94:$L259,7) -> 0 | F95: =VLOOKUP(A95,Grundliste!$C94:$L259,8) -> 0 | G95: =VLOOKUP(A95,Grundliste!$C94:$L259,10) -> 0
A96: =Grundliste!C96 -> 940 | C96: =VLOOKUP(A96,Grundliste!$C95:$L260,5) -> Beerfelden- Oberzent | D96: =VLOOKUP(A96,Grundliste!$C95:$L260,6) -> Hessen | G96: =VLOOKUP(A96,Grundliste!$C95:$L260,10) -> x | H96: =Grundliste!E96 -> Wochenend und Feiertagssperrung | I96: =CONCATENATE(A96,",",B96,",",C96,",",D96,",",E96,",",F96) -> 940, ,Beerfelden- Oberzent,Hessen,, | J96: =CONCATENATE("Streckensperrung: ",D96," ",C96," ",F96," ",E96," ",B96," ",TEXT(A96,"""#""00000")) -> Streckensperrung: Hessen Beerfelden- Oberzent #00940 | K96: =CONCATENATE("Streckensperrung: ",D96," ",C96," ",F96," ",E96," ",B96," - ",H96) -> Streckensperrung: Hessen Beerfelden- Oberzent - Wochenend und Feiertagssperrung | L96: =CONCATENATE("Hier findest Du die Informationen zur Streckensperrung: ",D96," ",C96," ",F96," ",E96," ",B96," - ",H96) -> Hier findest Du die Informationen zur Streckensperrung: Hessen Beerfelden- Oberzent - Wochenend und Feiertagssperrung | M96: =CONCATENATE(TEXT(A96,"""ID""00000"),"-",D96,"-",C96,"-",F96,"-",E96,"-",B96) -> ID00940-Hessen-Beerfelden- Oberzent--- | N96: =SUBSTITUTE(SUBSTITUTE(SUBSTITUTE(SUBSTITUTE(SUBSTITUTE(SUBSTITUTE(LOWER(TRIM(M96)),"ä","ae"),"ö","oe"),"ü","ue"),"ß","ss"),"--","-")," ","_") -> id00940-hessen-beerfelden-_oberzent--
A97: =Grundliste!C97 -> 950 | B97: =VLOOKUP(A97,Grundliste!$C96:$L261,4) -> 0 | C97: =VLOOKUP(A97,Grundliste!$C96:$L261,5) -> Beerfelden | D97: =VLOOKUP(A97,Grundliste!$C96:$L261,6) -> 0 | E97: =VLOOKUP(A97,Grundliste!$C96:$L261,7) -> 0 | F97: =VLOOKUP(A97,Grundliste!$C96:$L261,8) -> 0 | G97: =VLOOKUP(A97,Grundliste!$C96:$L261,10) -> 0
A98: =Grundliste!C98 -> 960 | B98: =VLOOKUP(A98,Grundliste!$C97:$L262,4) -> Obersensbachtal | C98: =VLOOKUP(A98,Grundliste!$C97:$L262,5) -> Sensbachtal | D98: =VLOOKUP(A98,Grundliste!$C97:$L262,6) -> Hessen | E98: =VLOOKUP(A98,Grundliste!$C97:$L262,7) -> L3120 | F98: =VLOOKUP(A98,Grundliste!$C97:$L262,8) -> Sennsbacher Str. | G98: =VLOOKUP(A98,Grundliste!$C97:$L262,10) -> x | H98: =Grundliste!E98 -> Wochenend und Feiertagssperrung | I98: =CONCATENATE(A98,",",B98,",",C98,",",D98,",",E98,",",F98) -> 960,Obersensbachtal,Sensbachtal,Hessen,L3120,Sennsbacher Str. | J98: =CONCATENATE("Streckensperrung: ",D98," ",C98," ",F98," ",E98," ",B98," ",TEXT(A98,"""#""00000")) -> Streckensperrung: Hessen Sensbachtal Sennsbacher Str. L3120 Obersensbachtal #00960 | K98: =CONCATENATE("Streckensperrung: ",D98," ",C98," ",F98," ",E98," ",B98," - ",H98) -> Streckensperrung: Hessen Sensbachtal Sennsbacher Str. L3120 Obersensbachtal - Wochenend und Feiertagssperrung | L98: =CONCATENATE("Hier findest Du die Informationen zur Streckensperrung: ",D98," ",C98," ",F98," ",E98," ",B98," - ",H98) -> Hier findest Du die Informationen zur Streckensperrung: Hessen Sensbachtal Sennsbacher Str. L3120 Obersensbachtal - Wochenend und Feiertagssperrung | M98: =CONCATENATE(TEXT(A98,"""ID""00000"),"-",D98,"-",C98,"-",F98,"-",E98,"-",B98) -> ID00960-Hessen-Sensbachtal-Sennsbacher Str.-L3120-Obersensbachtal | N98: =SUBSTITUTE(SUBSTITUTE(SUBSTITUTE(SUBSTITUTE(SUBSTITUTE(SUBSTITUTE(LOWER(TRIM(M98)),"ä","ae"),"ö","oe"),"ü","ue"),"ß","ss"),"--","-")," ","_") -> id00960-hessen-sensbachtal-sennsbacher_str.-l3120-obersensbachtal
A99: =Grundliste!C99 -> 970 | B99: =VLOOKUP(A99,Grundliste!$C98:$L263,4) -> 0 | C99: =VLOOKUP(A99,Grundliste!$C98:$L263,5) -> Wiesbaden | D99: =VLOOKUP(A99,Grundliste!$C98:$L263,6) -> 0 | E99: =VLOOKUP(A99,Grundliste!$C98:$L263,7) -> 0 | F99: =VLOOKUP(A99,Grundliste!$C98:$L263,8) -> 0 | G99: =VLOOKUP(A99,Grundliste!$C98:$L263,10) -> 0
A100: =Grundliste!C100 -> 980 | B100: =VLOOKUP(A100,Grundliste!$C99:$L264,4) -> 0 | C100: =VLOOKUP(A100,Grundliste!$C99:$L264,5) -> Bad Schwalbach | D100: =VLOOKUP(A100,Grundliste!$C99:$L264,6) -> 0 | E100: =VLOOKUP(A100,Grundliste!$C99:$L264,7) -> 0 | F100: =VLOOKUP(A100,Grundliste!$C99:$L264,8) -> 0 | G100: =VLOOKUP(A100,Grundliste!$C99:$L264,10) -> 0
A101: =Grundliste!C101 -> 990 | B101: =VLOOKUP(A101,Grundliste!$C100:$L265,4) -> 0 | C101: =VLOOKUP(A101,Grundliste!$C100:$L265,5) -> Hadamar | D101: =VLOOKUP(A101,Grundliste!$C100:$L265,6) -> 0 | E101: =VLOOKUP(A101,Grundliste!$C100:$L265,7) -> 0 | F101: =VLOOKUP(A101,Grundliste!$C100:$L265,8) -> 0 | G101: =VLOOKUP(A101,Grundliste!$C100:$L265,10) -> 0
A102: =Grundliste!C102 -> 1000 | B102: =VLOOKUP(A102,Grundliste!$C101:$L266,4) -> 0 | C102: =VLOOKUP(A102,Grundliste!$C101:$L266,5) -> Sankt-Wendel | D102: =VLOOKUP(A102,Grundliste!$C101:$L266,6) -> 0 | E102: =VLOOKUP(A102,Grundliste!$C101:$L266,7) -> 0 | F102: =VLOOKUP(A102,Grundliste!$C101:$L266,8) -> 0 | G102: =VLOOKUP(A102,Grundliste!$C101:$L266,10) -> 0
A103: =Grundliste!C103 -> 1010 | B103: =VLOOKUP(A103,Grundliste!$C102:$L267,4) -> Elmsteiner Tal | C103: =VLOOKUP(A103,Grundliste!$C102:$L267,5) -> Frankeneck | D103: =VLOOKUP(A103,Grundliste!$C102:$L267,6) -> Rheinland-Pfalz | E103: =VLOOKUP(A103,Grundliste!$C102:$L267,7) -> L 499 | F103: =VLOOKUP(A103,Grundliste!$C102:$L267,8) -> Johanniskreuz Str. | G103: =VLOOKUP(A103,Grundliste!$C102:$L267,10) -> x | H103: =Grundliste!E103 -> Wochenend und Feiertagssperrung | I103: =CONCATENATE(A103,",",B103,",",C103,",",D103,",",E103,",",F103) -> 1010,Elmsteiner Tal,Frankeneck,Rheinland-Pfalz,L 499,Johanniskreuz Str. | J103: =CONCATENATE("Streckensperrung: ",D103," ",C103," ",F103," ",E103," ",B103," ",TEXT(A103,"""#""00000")) -> Streckensperrung: Rheinland-Pfalz Frankeneck Johanniskreuz Str. L 499 Elmsteiner Tal #01010 | K103: =CONCATENATE("Streckensperrung: ",D103," ",C103," ",F103," ",E103," ",B103," - ",H103) -> Streckensperrung: Rheinland-Pfalz Frankeneck Johanniskreuz Str. L 499 Elmsteiner Tal - Wochenend und Feiertagssperrung | L103: =CONCATENATE("Hier findest Du die Informationen zur Streckensperrung: ",D103," ",C103," ",F103," ",E103," ",B103," - ",H103) -> Hier findest Du die Informationen zur Streckensperrung: Rheinland-Pfalz Frankeneck Johanniskreuz Str. L 499 Elmsteiner Tal - Wochenend und Feiertagssperrung | M103: =CONCATENATE(TEXT(A103,"""ID""00000"),"-",D103,"-",C103,"-",F103,"-",E103,"-",B103) -> ID01010-Rheinland-Pfalz-Frankeneck-Johanniskreuz Str.-L 499-Elmsteiner Tal | N103: =SUBSTITUTE(SUBSTITUTE(SUBSTITUTE(SUBSTITUTE(SUBSTITUTE(SUBSTITUTE(LOWER(TRIM(M103)),"ä","ae"),"ö","oe"),"ü","ue"),"ß","ss"),"--","-")," ","_") -> id01010-rheinland-pfalz-frankeneck-johanniskreuz_str.-l_499-elmsteiner_tal
A104: =Grundliste!C104 -> 1020 | B104: =VLOOKUP(A104,Grundliste!$C103:$L268,4) -> 0 | C104: =VLOOKUP(A104,Grundliste!$C103:$L268,5) -> Elmstein | D104: =VLOOKUP(A104,Grundliste!$C103:$L268,6) -> 0 | E104: =VLOOKUP(A104,Grundliste!$C103:$L268,7) -> 0 | F104: =VLOOKUP(A104,Grundliste!$C103:$L268,8) -> 0 | G104: =VLOOKUP(A104,Grundliste!$C103:$L268,10) -> 0
...
